BEGIN:VCALENDAR
VERSION:2.0
PRODID:-//Čistoća Duga Resa - ECPv5.14.0.1//NONSGML v1.0//EN
CALSCALE:GREGORIAN
METHOD:PUBLISH
X-WR-CALNAME:Čistoća Duga Resa
X-ORIGINAL-URL:https://cistoca-dugaresa.hr
X-WR-CALDESC:Events for Čistoća Duga Resa
REFRESH-INTERVAL;VALUE=DURATION:PT1H
X-Robots-Tag:noindex
X-PUBLISHED-TTL:PT1H
BEGIN:VTIMEZONE
TZID:UTC
BEGIN:STANDARD
TZOFFSETFROM:+0000
TZOFFSETTO:+0000
TZNAME:UTC
DTSTART:20240101T000000
END:STANDARD
END:VTIMEZONE
BEGIN:VEVENT
DTSTART;TZID=UTC:20240507T130000
DTEND;TZID=UTC:20240531T130000
DTSTAMP:20260426T060927
CREATED:20240506T074613Z
LAST-MODIFIED:20240506T074613Z
UID:4133-1715086800-1717160400@cistoca-dugaresa.hr
SUMMARY:ANA MALOVIĆ rođ.Protulipac
DESCRIPTION:ROĐENA: 1950. GODINE
URL:https://cistoca-dugaresa.hr/event/ana-malovic-rod-protulipac/
LOCATION:Ukop na groblju Sv. Ivan u Zvečaju\, Zvečaj\, Croatia (Local Name: Hrvatska)
CATEGORIES:Duga Resa – Sv. Ivan Zvečaj
END:VEVENT
BEGIN:VEVENT
DTSTART;TZID=UTC:20240524T150000
DTEND;TZID=UTC:20240531T150000
DTSTAMP:20260426T060927
CREATED:20240523T111324Z
LAST-MODIFIED:20240523T111324Z
UID:4161-1716562800-1717167600@cistoca-dugaresa.hr
SUMMARY:ANTUN DOMŠIĆ
DESCRIPTION:ROĐEN: 1950. GODINE
URL:https://cistoca-dugaresa.hr/event/antun-domsic/
LOCATION:Ukop na groblju Sv. Ivan u Zvečaju\, Zvečaj\, Croatia (Local Name: Hrvatska)
CATEGORIES:Duga Resa – Sv. Ivan Zvečaj
END:VEVENT
END:VCALENDAR