BEGIN:VCALENDAR
VERSION:2.0
PRODID:-//Čistoća Duga Resa - ECPv5.14.0.1//NONSGML v1.0//EN
CALSCALE:GREGORIAN
METHOD:PUBLISH
X-WR-CALNAME:Čistoća Duga Resa
X-ORIGINAL-URL:https://cistoca-dugaresa.hr
X-WR-CALDESC:Events for Čistoća Duga Resa
REFRESH-INTERVAL;VALUE=DURATION:PT1H
X-Robots-Tag:noindex
X-PUBLISHED-TTL:PT1H
BEGIN:VTIMEZONE
TZID:UTC
BEGIN:STANDARD
TZOFFSETFROM:+0000
TZOFFSETTO:+0000
TZNAME:UTC
DTSTART:20230101T000000
END:STANDARD
END:VTIMEZONE
BEGIN:VEVENT
DTSTART;TZID=UTC:20230626T110000
DTEND;TZID=UTC:20230703T110000
DTSTAMP:20260426T060840
CREATED:20230623T121715Z
LAST-MODIFIED:20230623T121715Z
UID:3675-1687777200-1688382000@cistoca-dugaresa.hr
SUMMARY:STANISLAVA MIKULJAN rođ. Podgornik
DESCRIPTION:ROĐENA: 1925. GODINE
URL:https://cistoca-dugaresa.hr/event/stanislava-mikuljan-rod-podgornik/
LOCATION:Ukop na groblju Sv. Petar u Dugoj Resi\, Duga Resa\, Croatia (Local Name: Hrvatska)
CATEGORIES:Duga Resa - Sv. Petar
END:VEVENT
BEGIN:VEVENT
DTSTART;TZID=UTC:20230627T100000
DTEND;TZID=UTC:20230716T100000
DTSTAMP:20260426T060840
CREATED:20230627T105705Z
LAST-MODIFIED:20230627T105705Z
UID:3679-1687860000-1689501600@cistoca-dugaresa.hr
SUMMARY:MILJENKO MAĆAŠ
DESCRIPTION:ROĐEN: 1947. GODINE
URL:https://cistoca-dugaresa.hr/event/miljenko-macas/
LOCATION:Ukop na groblju Sv. Petar u Dugoj Resi\, Duga Resa\, Croatia (Local Name: Hrvatska)
CATEGORIES:Duga Resa - Sv. Petar
END:VEVENT
BEGIN:VEVENT
DTSTART;TZID=UTC:20230628T130000
DTEND;TZID=UTC:20230716T130000
DTSTAMP:20260426T060840
CREATED:20230627T105915Z
LAST-MODIFIED:20230627T105915Z
UID:3681-1687957200-1689512400@cistoca-dugaresa.hr
SUMMARY:ŽELJKO ŠIMIĆ
DESCRIPTION:ROĐEN: 1947. GODINE
URL:https://cistoca-dugaresa.hr/event/zeljko-simic/
LOCATION:Ukop na groblju Sv. Petar u Dugoj Resi\, Duga Resa\, Croatia (Local Name: Hrvatska)
CATEGORIES:Duga Resa - Sv. Petar
END:VEVENT
BEGIN:VEVENT
DTSTART;TZID=UTC:20230704T130000
DTEND;TZID=UTC:20230723T130000
DTSTAMP:20260426T060840
CREATED:20230703T050728Z
LAST-MODIFIED:20230703T050728Z
UID:3684-1688475600-1690117200@cistoca-dugaresa.hr
SUMMARY:MIRA KIRIN rođ. Barešić
DESCRIPTION:ROĐENA: 1943. GODINE
URL:https://cistoca-dugaresa.hr/event/mira-kirin-rod-baresic/
LOCATION:Ukop na groblju Sv. Petar u Dugoj Resi\, Duga Resa\, Croatia (Local Name: Hrvatska)
CATEGORIES:Duga Resa - Sv. Petar
END:VEVENT
BEGIN:VEVENT
DTSTART;TZID=UTC:20230706T130000
DTEND;TZID=UTC:20230723T130000
DTSTAMP:20260426T060840
CREATED:20230705T082526Z
LAST-MODIFIED:20230705T082526Z
UID:3688-1688648400-1690117200@cistoca-dugaresa.hr
SUMMARY:KATICA MIHALIĆ rođ.Brozić
DESCRIPTION:ROĐENA: 1951. GODINE
URL:https://cistoca-dugaresa.hr/event/katica-mihalic-rod-brozic/
LOCATION:Ukop na groblju Sv. Petar u Dugoj Resi\, Duga Resa\, Croatia (Local Name: Hrvatska)
CATEGORIES:Duga Resa - Sv. Petar
END:VEVENT
BEGIN:VEVENT
DTSTART;TZID=UTC:20230714T133000
DTEND;TZID=UTC:20230721T133000
DTSTAMP:20260426T060840
CREATED:20230713T104245Z
LAST-MODIFIED:20230713T104245Z
UID:3732-1689341400-1689946200@cistoca-dugaresa.hr
SUMMARY:NEVEN SPUDIĆ
DESCRIPTION:ROĐEN: 1974. GODINE
URL:https://cistoca-dugaresa.hr/event/neven-spudic/
LOCATION:Ukop na groblju Sv. Petar u Dugoj Resi\, Duga Resa\, Croatia (Local Name: Hrvatska)
CATEGORIES:Duga Resa - Sv. Petar
END:VEVENT
BEGIN:VEVENT
DTSTART;TZID=UTC:20230714T140000
DTEND;TZID=UTC:20230721T140000
DTSTAMP:20260426T060840
CREATED:20230713T104458Z
LAST-MODIFIED:20230713T104458Z
UID:3734-1689343200-1689948000@cistoca-dugaresa.hr
SUMMARY:IVAN SRAKOČIĆ
DESCRIPTION:ROĐEN: 1946. GODINE
URL:https://cistoca-dugaresa.hr/event/ivan-srakocic/
LOCATION:Ukop na groblju Sv. Petar u Dugoj Resi\, Duga Resa\, Croatia (Local Name: Hrvatska)
CATEGORIES:Duga Resa - Sv. Petar
END:VEVENT
BEGIN:VEVENT
DTSTART;TZID=UTC:20230717T130000
DTEND;TZID=UTC:20230730T130000
DTSTAMP:20260426T060840
CREATED:20230717T061709Z
LAST-MODIFIED:20230717T061709Z
UID:3736-1689598800-1690722000@cistoca-dugaresa.hr
SUMMARY:ANA CVITKOVIĆ rođ.Rudar
DESCRIPTION:ROĐENA: 1931. GODINE
URL:https://cistoca-dugaresa.hr/event/ana-cvitkovic-rod-rudar/
LOCATION:Ukop na groblju Sv. Petar u Dugoj Resi\, Duga Resa\, Croatia (Local Name: Hrvatska)
CATEGORIES:Duga Resa - Sv. Petar
END:VEVENT
BEGIN:VEVENT
DTSTART;TZID=UTC:20230718T110000
DTEND;TZID=UTC:20230730T110000
DTSTAMP:20260426T060840
CREATED:20230717T061826Z
LAST-MODIFIED:20230717T061826Z
UID:3738-1689678000-1690714800@cistoca-dugaresa.hr
SUMMARY:PAULINA TKALAC rođ.Jurjević
DESCRIPTION:ROĐENA: 1932. GODINE
URL:https://cistoca-dugaresa.hr/event/paulina-tkalac-rod-jurjevic/
LOCATION:Ukop na groblju Sv. Petar u Dugoj Resi\, Duga Resa\, Croatia (Local Name: Hrvatska)
CATEGORIES:Duga Resa - Sv. Petar
END:VEVENT
BEGIN:VEVENT
DTSTART;TZID=UTC:20230718T140000
DTEND;TZID=UTC:20230730T140000
DTSTAMP:20260426T060840
CREATED:20230717T081416Z
LAST-MODIFIED:20230717T081416Z
UID:3740-1689688800-1690725600@cistoca-dugaresa.hr
SUMMARY:SNJEŽANA POLJAK rođ.Štedul
DESCRIPTION:ROĐENA: 1971. GODINE
URL:https://cistoca-dugaresa.hr/event/snjezana-poljak-rod-stedul/
LOCATION:Ukop na groblju Sv. Petar u Dugoj Resi\, Duga Resa\, Croatia (Local Name: Hrvatska)
CATEGORIES:Duga Resa - Sv. Petar
END:VEVENT
BEGIN:VEVENT
DTSTART;TZID=UTC:20230722T110000
DTEND;TZID=UTC:20230813T110000
DTSTAMP:20260426T060840
CREATED:20230721T125714Z
LAST-MODIFIED:20230721T125714Z
UID:3748-1690023600-1691924400@cistoca-dugaresa.hr
SUMMARY:LJUBICA VUKOVIĆ
DESCRIPTION:ROĐENA: 1935. GODINE
URL:https://cistoca-dugaresa.hr/event/ljubica-vukovic-2/
LOCATION:Ukop na groblju Sv. Petar u Dugoj Resi\, Duga Resa\, Croatia (Local Name: Hrvatska)
CATEGORIES:Duga Resa - Sv. Petar
END:VEVENT
BEGIN:VEVENT
DTSTART;TZID=UTC:20230725T130000
DTEND;TZID=UTC:20230813T130000
DTSTAMP:20260426T060840
CREATED:20230724T093838Z
LAST-MODIFIED:20230724T093838Z
UID:3750-1690290000-1691931600@cistoca-dugaresa.hr
SUMMARY:RUŽICA MIHALIĆ rođ.Kodrin
DESCRIPTION:ROĐENA: 1955. GODINE
URL:https://cistoca-dugaresa.hr/event/ruzica-mihalic-rod-kodrin/
LOCATION:Ukop na groblju Sv. Petar u Dugoj Resi\, Duga Resa\, Croatia (Local Name: Hrvatska)
CATEGORIES:Duga Resa - Sv. Petar
END:VEVENT
END:VCALENDAR