BEGIN:VCALENDAR
VERSION:2.0
PRODID:-//Čistoća Duga Resa - ECPv5.14.0.1//NONSGML v1.0//EN
CALSCALE:GREGORIAN
METHOD:PUBLISH
X-WR-CALNAME:Čistoća Duga Resa
X-ORIGINAL-URL:https://cistoca-dugaresa.hr
X-WR-CALDESC:Events for Čistoća Duga Resa
REFRESH-INTERVAL;VALUE=DURATION:PT1H
X-Robots-Tag:noindex
X-PUBLISHED-TTL:PT1H
BEGIN:VTIMEZONE
TZID:UTC
BEGIN:STANDARD
TZOFFSETFROM:+0000
TZOFFSETTO:+0000
TZNAME:UTC
DTSTART:20230101T000000
END:STANDARD
END:VTIMEZONE
BEGIN:VEVENT
DTSTART;TZID=UTC:20231218T130000
DTEND;TZID=UTC:20240101T130000
DTSTAMP:20260425T214545
CREATED:20231217T120042Z
LAST-MODIFIED:20231217T120042Z
UID:3916-1702904400-1704114000@cistoca-dugaresa.hr
SUMMARY:RUŽA CAPAN rođ. Duganić
DESCRIPTION:ROĐENA: 1932. GODINE
URL:https://cistoca-dugaresa.hr/event/ruza-capan-rod-duganic/
LOCATION:Ukop na groblju Sv. Petar u Dugoj Resi\, Duga Resa\, Croatia (Local Name: Hrvatska)
CATEGORIES:Duga Resa - Sv. Petar
END:VEVENT
BEGIN:VEVENT
DTSTART;TZID=UTC:20231219T130000
DTEND;TZID=UTC:20240107T130000
DTSTAMP:20260425T214545
CREATED:20231218T102737Z
LAST-MODIFIED:20231218T102737Z
UID:3920-1702990800-1704632400@cistoca-dugaresa.hr
SUMMARY:MILKA MILINKOVIĆ
DESCRIPTION:ROĐENA: 1938. GODINE
URL:https://cistoca-dugaresa.hr/event/milka-milinkovic/
LOCATION:Ukop na groblju Sv. Petar u Dugoj Resi\, Duga Resa\, Croatia (Local Name: Hrvatska)
CATEGORIES:Duga Resa - Sv. Petar
END:VEVENT
BEGIN:VEVENT
DTSTART;TZID=UTC:20231220T120000
DTEND;TZID=UTC:20240101T120000
DTSTAMP:20260425T214545
CREATED:20231219T135514Z
LAST-MODIFIED:20231219T135514Z
UID:3923-1703073600-1704110400@cistoca-dugaresa.hr
SUMMARY:REZIKA CVITKOVIć rođ.Vranić
DESCRIPTION:ROĐENA: 1934. GODINE
URL:https://cistoca-dugaresa.hr/event/rezika-cvitkovic-rod-vranic/
LOCATION:Ukop na groblju Sv. Petar u Dugoj Resi\, Duga Resa\, Croatia (Local Name: Hrvatska)
CATEGORIES:Duga Resa - Sv. Petar
END:VEVENT
BEGIN:VEVENT
DTSTART;TZID=UTC:20231221T133000
DTEND;TZID=UTC:20240107T133000
DTSTAMP:20260425T214545
CREATED:20231220T122757Z
LAST-MODIFIED:20231220T122757Z
UID:3929-1703165400-1704634200@cistoca-dugaresa.hr
SUMMARY:PETAR REBROVIĆ
DESCRIPTION:ROĐEN: 1944. GODINE
URL:https://cistoca-dugaresa.hr/event/petar-rebrovic/
LOCATION:Ukop na groblju Sv. Petar u Dugoj Resi\, Duga Resa\, Croatia (Local Name: Hrvatska)
CATEGORIES:Duga Resa - Sv. Petar
END:VEVENT
BEGIN:VEVENT
DTSTART;TZID=UTC:20231221T140000
DTEND;TZID=UTC:20240107T140000
DTSTAMP:20260425T214545
CREATED:20231219T135619Z
LAST-MODIFIED:20231221T053244Z
UID:3925-1703167200-1704636000@cistoca-dugaresa.hr
SUMMARY:MARTINA SESTRIĆ
DESCRIPTION:ROĐENA: 1977. GODINE
URL:https://cistoca-dugaresa.hr/event/marina-sestric/
LOCATION:Ukop na groblju Sv. Petar u Dugoj Resi\, Duga Resa\, Croatia (Local Name: Hrvatska)
CATEGORIES:Duga Resa - Sv. Petar
END:VEVENT
BEGIN:VEVENT
DTSTART;TZID=UTC:20231222T130000
DTEND;TZID=UTC:20240107T130000
DTSTAMP:20260425T214545
CREATED:20231220T122628Z
LAST-MODIFIED:20231220T122628Z
UID:3927-1703250000-1704632400@cistoca-dugaresa.hr
SUMMARY:ANA ŠANDIĆ rođ.Sviličić
DESCRIPTION:ROĐENA: 1961. GODINE
URL:https://cistoca-dugaresa.hr/event/ana-sandic-rod-svilicic/
LOCATION:Ukop na groblju Sv. Petar u Dugoj Resi\, Duga Resa\, Croatia (Local Name: Hrvatska)
CATEGORIES:Duga Resa - Sv. Petar
END:VEVENT
BEGIN:VEVENT
DTSTART;TZID=UTC:20231227T133000
DTEND;TZID=UTC:20240114T133000
DTSTAMP:20260425T214545
CREATED:20231222T131543Z
LAST-MODIFIED:20231222T131543Z
UID:3932-1703683800-1705239000@cistoca-dugaresa.hr
SUMMARY:BARA GALOVIĆ
DESCRIPTION:ROĐENA: 1940. GODINE
URL:https://cistoca-dugaresa.hr/event/bara-galovic/
LOCATION:Ukop na groblju Sv. Petar u Dugoj Resi\, Duga Resa\, Croatia (Local Name: Hrvatska)
CATEGORIES:Duga Resa - Sv. Petar
END:VEVENT
BEGIN:VEVENT
DTSTART;TZID=UTC:20231227T140000
DTEND;TZID=UTC:20240121T140000
DTSTAMP:20260425T214545
CREATED:20231222T131638Z
LAST-MODIFIED:20231222T131638Z
UID:3934-1703685600-1705845600@cistoca-dugaresa.hr
SUMMARY:JURAJ MIHALIĆ
DESCRIPTION:ROĐEN: 1927. GODINE
URL:https://cistoca-dugaresa.hr/event/juraj-mihalic/
LOCATION:Ukop na groblju Sv. Petar u Dugoj Resi\, Duga Resa\, Croatia (Local Name: Hrvatska)
CATEGORIES:Duga Resa - Sv. Petar
END:VEVENT
BEGIN:VEVENT
DTSTART;TZID=UTC:20231228T130000
DTEND;TZID=UTC:20240121T130000
DTSTAMP:20260425T214545
CREATED:20231227T104240Z
LAST-MODIFIED:20231227T104240Z
UID:3937-1703768400-1705842000@cistoca-dugaresa.hr
SUMMARY:NADA BIŠĆAN rođ. Capan
DESCRIPTION:ROĐENA: 1933. GODINE
URL:https://cistoca-dugaresa.hr/event/nada-biscan-rod-capan/
LOCATION:Ukop na groblju Sv. Petar u Dugoj Resi\, Duga Resa\, Croatia (Local Name: Hrvatska)
CATEGORIES:Duga Resa - Sv. Petar
END:VEVENT
BEGIN:VEVENT
DTSTART;TZID=UTC:20231228T133000
DTEND;TZID=UTC:20240121T133000
DTSTAMP:20260425T214545
CREATED:20231227T104329Z
LAST-MODIFIED:20231227T104329Z
UID:3939-1703770200-1705843800@cistoca-dugaresa.hr
SUMMARY:BOŽIDAR GALOVIĆ
DESCRIPTION:ROĐEN: 1952. GODINE
URL:https://cistoca-dugaresa.hr/event/bozidar-galovic/
LOCATION:Ukop na groblju Sv. Petar u Dugoj Resi\, Duga Resa\, Croatia (Local Name: Hrvatska)
CATEGORIES:Duga Resa - Sv. Petar
END:VEVENT
BEGIN:VEVENT
DTSTART;TZID=UTC:20231229T130000
DTEND;TZID=UTC:20240121T130000
DTSTAMP:20260425T214545
CREATED:20231227T104524Z
LAST-MODIFIED:20231227T104524Z
UID:3941-1703854800-1705842000@cistoca-dugaresa.hr
SUMMARY:KATICA MALOVIĆ rođ.Trbuščić
DESCRIPTION:ROĐENA: 1938. GODINE
URL:https://cistoca-dugaresa.hr/event/katica-malovic-rod-trbuscic/
LOCATION:Ukop na groblju Sv. Petar u Dugoj Resi\, Duga Resa\, Croatia (Local Name: Hrvatska)
CATEGORIES:Duga Resa - Sv. Petar
END:VEVENT
BEGIN:VEVENT
DTSTART;TZID=UTC:20231229T133000
DTEND;TZID=UTC:20240131T133000
DTSTAMP:20260425T214545
CREATED:20231229T111816Z
LAST-MODIFIED:20231229T111816Z
UID:3951-1703856600-1706707800@cistoca-dugaresa.hr
SUMMARY:ANTE CAR
DESCRIPTION:ROĐEN: 1944. GODINE
URL:https://cistoca-dugaresa.hr/event/ante-car/
LOCATION:Ukop na groblju Sv. Petar u Dugoj Resi\, Duga Resa\, Croatia (Local Name: Hrvatska)
CATEGORIES:Duga Resa - Sv. Petar
END:VEVENT
BEGIN:VEVENT
DTSTART;TZID=UTC:20240102T130000
DTEND;TZID=UTC:20240131T130000
DTSTAMP:20260425T214545
CREATED:20231229T111625Z
LAST-MODIFIED:20231229T111625Z
UID:3949-1704200400-1706706000@cistoca-dugaresa.hr
SUMMARY:DUBRAVKO CINDRIĆ
DESCRIPTION:ROĐEN: 1956. GODINE
URL:https://cistoca-dugaresa.hr/event/dubravko-cindric/
LOCATION:Ukop na groblju Sv. Petar u Dugoj Resi\, Duga Resa\, Croatia (Local Name: Hrvatska)
CATEGORIES:Duga Resa - Sv. Petar
END:VEVENT
BEGIN:VEVENT
DTSTART;TZID=UTC:20240104T130000
DTEND;TZID=UTC:20240131T130000
DTSTAMP:20260425T214545
CREATED:20240102T115343Z
LAST-MODIFIED:20240103T132757Z
UID:3980-1704373200-1706706000@cistoca-dugaresa.hr
SUMMARY:RUŽA BELLA rođ. Badovinac
DESCRIPTION:ROĐENA: 1931. GODINE
URL:https://cistoca-dugaresa.hr/event/ruza-bella/
LOCATION:Ukop na groblju Sv. Petar u Dugoj Resi\, Duga Resa\, Croatia (Local Name: Hrvatska)
CATEGORIES:Duga Resa - Sv. Petar
END:VEVENT
BEGIN:VEVENT
DTSTART;TZID=UTC:20240104T133000
DTEND;TZID=UTC:20240131T133000
DTSTAMP:20260425T214545
CREATED:20240103T132647Z
LAST-MODIFIED:20240103T132647Z
UID:3985-1704375000-1706707800@cistoca-dugaresa.hr
SUMMARY:BOŽICA ŽUPČIĆ rođ. Pleše
DESCRIPTION:ROĐENA: 1939. GODINE
URL:https://cistoca-dugaresa.hr/event/bozica-zupcic-rod-plese/
LOCATION:Ukop na groblju Sv. Petar u Dugoj Resi\, Duga Resa\, Croatia (Local Name: Hrvatska)
CATEGORIES:Duga Resa - Sv. Petar
END:VEVENT
BEGIN:VEVENT
DTSTART;TZID=UTC:20240110T130000
DTEND;TZID=UTC:20240131T130000
DTSTAMP:20260425T214545
CREATED:20240108T084958Z
LAST-MODIFIED:20240108T084958Z
UID:3997-1704891600-1706706000@cistoca-dugaresa.hr
SUMMARY:BARA SVILIČIĆ rođ.Jakšić
DESCRIPTION:ROĐENA: 1946. GODINE
URL:https://cistoca-dugaresa.hr/event/bara-svilicic-rod-jaksic/
LOCATION:Ukop na groblju Sv. Petar u Dugoj Resi\, Duga Resa\, Croatia (Local Name: Hrvatska)
CATEGORIES:Duga Resa - Sv. Petar
END:VEVENT
BEGIN:VEVENT
DTSTART;TZID=UTC:20240112T130000
DTEND;TZID=UTC:20240131T130000
DTSTAMP:20260425T214545
CREATED:20240111T113844Z
LAST-MODIFIED:20240111T113844Z
UID:4002-1705064400-1706706000@cistoca-dugaresa.hr
SUMMARY:NIKOLA MARIČIĆ
DESCRIPTION:ROĐEN: 1941. GODINE
URL:https://cistoca-dugaresa.hr/event/nikola-maricic/
LOCATION:Ukop na groblju Sv. Petar u Dugoj Resi\, Duga Resa\, Croatia (Local Name: Hrvatska)
CATEGORIES:Duga Resa - Sv. Petar
END:VEVENT
BEGIN:VEVENT
DTSTART;TZID=UTC:20240112T133000
DTEND;TZID=UTC:20240131T133000
DTSTAMP:20260425T214545
CREATED:20240111T121038Z
LAST-MODIFIED:20240111T121038Z
UID:4004-1705066200-1706707800@cistoca-dugaresa.hr
SUMMARY:KATA KATIĆ rođ.Lipošćak
DESCRIPTION:ROĐENA: 1941. GODINE
URL:https://cistoca-dugaresa.hr/event/kata-katic-rod-liposcak/
LOCATION:Ukop na groblju Sv. Petar u Dugoj Resi\, Duga Resa\, Croatia (Local Name: Hrvatska)
CATEGORIES:Duga Resa - Sv. Petar
END:VEVENT
BEGIN:VEVENT
DTSTART;TZID=UTC:20240115T140000
DTEND;TZID=UTC:20240131T140000
DTSTAMP:20260425T214545
CREATED:20240112T135036Z
LAST-MODIFIED:20240112T135036Z
UID:4007-1705327200-1706709600@cistoca-dugaresa.hr
SUMMARY:BOŠKO VRAČAR
DESCRIPTION:ROĐEN: 1957. GODINE
URL:https://cistoca-dugaresa.hr/event/bosko-vracar/
LOCATION:Ukop na groblju Sv. Petar u Dugoj Resi\, Duga Resa\, Croatia (Local Name: Hrvatska)
CATEGORIES:Duga Resa - Sv. Petar
END:VEVENT
BEGIN:VEVENT
DTSTART;TZID=UTC:20240117T130000
DTEND;TZID=UTC:20240131T130000
DTSTAMP:20260425T214545
CREATED:20240116T131202Z
LAST-MODIFIED:20240116T131202Z
UID:4013-1705496400-1706706000@cistoca-dugaresa.hr
SUMMARY:ŽELJKA KUČINIĆ rođ.Dalloš
DESCRIPTION:ROĐENA: 1937. GODINE
URL:https://cistoca-dugaresa.hr/event/zeljka-kucinic-rod-dallos/
LOCATION:Ukop na groblju Sv. Petar u Dugoj Resi\, Duga Resa\, Croatia (Local Name: Hrvatska)
CATEGORIES:Duga Resa - Sv. Petar
END:VEVENT
BEGIN:VEVENT
DTSTART;TZID=UTC:20240124T110000
DTEND;TZID=UTC:20240229T110000
DTSTAMP:20260425T214545
CREATED:20240123T125257Z
LAST-MODIFIED:20240123T125257Z
UID:4017-1706094000-1709204400@cistoca-dugaresa.hr
SUMMARY:ANTE SOKOLIĆ-NONI
DESCRIPTION:ROĐEN:1943. GODINE
URL:https://cistoca-dugaresa.hr/event/ante-sokolic-noni/
LOCATION:Ukop na groblju Sv. Petar u Dugoj Resi\, Duga Resa\, Croatia (Local Name: Hrvatska)
CATEGORIES:Duga Resa - Sv. Petar
END:VEVENT
BEGIN:VEVENT
DTSTART;TZID=UTC:20240125T140000
DTEND;TZID=UTC:20240229T140000
DTSTAMP:20260425T214545
CREATED:20240123T125402Z
LAST-MODIFIED:20240123T125402Z
UID:4019-1706191200-1709215200@cistoca-dugaresa.hr
SUMMARY:MARIO KAPELIĆ
DESCRIPTION:ROĐEN: 1973. GODINE
URL:https://cistoca-dugaresa.hr/event/mario-kapelic/
LOCATION:Ukop na groblju Sv. Petar u Dugoj Resi\, Duga Resa\, Croatia (Local Name: Hrvatska)
CATEGORIES:Duga Resa - Sv. Petar
END:VEVENT
BEGIN:VEVENT
DTSTART;TZID=UTC:20240126T130000
DTEND;TZID=UTC:20240229T130000
DTSTAMP:20260425T214545
CREATED:20240125T095313Z
LAST-MODIFIED:20240125T095313Z
UID:4021-1706274000-1709211600@cistoca-dugaresa.hr
SUMMARY:SLAVKO CAR
DESCRIPTION:ROĐEN: 1943. GODINE
URL:https://cistoca-dugaresa.hr/event/slavko-car/
LOCATION:Ukop na groblju Sv. Petar u Dugoj Resi\, Duga Resa\, Croatia (Local Name: Hrvatska)
CATEGORIES:Duga Resa - Sv. Petar
END:VEVENT
BEGIN:VEVENT
DTSTART;TZID=UTC:20240126T133000
DTEND;TZID=UTC:20240229T133000
DTSTAMP:20260425T214545
CREATED:20240129T104453Z
LAST-MODIFIED:20240129T104453Z
UID:4033-1706275800-1709213400@cistoca-dugaresa.hr
SUMMARY:IVAN LIPKA
DESCRIPTION:ROĐEN: 1937. GODINE
URL:https://cistoca-dugaresa.hr/event/ivan-lipka/
LOCATION:Ukop na groblju Sv. Petar u Dugoj Resi\, Duga Resa\, Croatia (Local Name: Hrvatska)
CATEGORIES:Duga Resa - Sv. Petar
END:VEVENT
BEGIN:VEVENT
DTSTART;TZID=UTC:20240130T150000
DTEND;TZID=UTC:20240229T150000
DTSTAMP:20260425T214545
CREATED:20240129T105703Z
LAST-MODIFIED:20240129T105703Z
UID:4039-1706626800-1709218800@cistoca-dugaresa.hr
SUMMARY:MIROSLAVA KOŽAR BENKOVIĆ
DESCRIPTION:ROĐENA: 1935. GODINE
URL:https://cistoca-dugaresa.hr/event/miroslava-kozar-benkovic/
LOCATION:Ukop na groblju Sv. Petar u Dugoj Resi\, Duga Resa\, Croatia (Local Name: Hrvatska)
CATEGORIES:Duga Resa - Sv. Petar
END:VEVENT
END:VCALENDAR