BEGIN:VCALENDAR
VERSION:2.0
PRODID:-//Čistoća Duga Resa - ECPv5.14.0.1//NONSGML v1.0//EN
CALSCALE:GREGORIAN
METHOD:PUBLISH
X-WR-CALNAME:Čistoća Duga Resa
X-ORIGINAL-URL:https://cistoca-dugaresa.hr
X-WR-CALDESC:Events for Čistoća Duga Resa
REFRESH-INTERVAL;VALUE=DURATION:PT1H
X-Robots-Tag:noindex
X-PUBLISHED-TTL:PT1H
BEGIN:VTIMEZONE
TZID:UTC
BEGIN:STANDARD
TZOFFSETFROM:+0000
TZOFFSETTO:+0000
TZNAME:UTC
DTSTART:20240101T000000
END:STANDARD
END:VTIMEZONE
BEGIN:VEVENT
DTSTART;TZID=UTC:20240221T130000
DTEND;TZID=UTC:20240324T130000
DTSTAMP:20260425T185405
CREATED:20240219T092707Z
LAST-MODIFIED:20240219T092707Z
UID:4060-1708520400-1711285200@cistoca-dugaresa.hr
SUMMARY:MILKA HALAVANIĆ rođ.Benić
DESCRIPTION:ROĐENA: 1937. GODINE
URL:https://cistoca-dugaresa.hr/event/milka-halavanic-rod-benic/
LOCATION:Ukop na groblju Sv. Petar u Dugoj Resi\, Duga Resa\, Croatia (Local Name: Hrvatska)
CATEGORIES:Duga Resa - Sv. Petar
END:VEVENT
BEGIN:VEVENT
DTSTART;TZID=UTC:20240227T130000
DTEND;TZID=UTC:20240324T130000
DTSTAMP:20260425T185405
CREATED:20240226T135129Z
LAST-MODIFIED:20240226T135345Z
UID:4070-1709038800-1711285200@cistoca-dugaresa.hr
SUMMARY:ANĐELKA KRTIĆ rođ. Živčić
DESCRIPTION:ROĐENA: 1941. GODINE
URL:https://cistoca-dugaresa.hr/event/amdelka-krtic/
LOCATION:Ukop na groblju Sv. Petar u Dugoj Resi\, Duga Resa\, Croatia (Local Name: Hrvatska)
CATEGORIES:Duga Resa - Sv. Petar
END:VEVENT
BEGIN:VEVENT
DTSTART;TZID=UTC:20240311T140000
DTEND;TZID=UTC:20240331T140000
DTSTAMP:20260425T185405
CREATED:20240311T083518Z
LAST-MODIFIED:20240311T083518Z
UID:4081-1710165600-1711893600@cistoca-dugaresa.hr
SUMMARY:IVAN STIŠĆAK
DESCRIPTION:ROĐEN: 1955. GODINE
URL:https://cistoca-dugaresa.hr/event/ivan-stiscak/
LOCATION:Ukop na groblju Sv. Petar u Dugoj Resi\, Duga Resa\, Croatia (Local Name: Hrvatska)
CATEGORIES:Duga Resa - Sv. Petar
END:VEVENT
BEGIN:VEVENT
DTSTART;TZID=UTC:20240314T130000
DTEND;TZID=UTC:20240331T130000
DTSTAMP:20260425T185405
CREATED:20240313T080610Z
LAST-MODIFIED:20240313T080610Z
UID:4085-1710421200-1711890000@cistoca-dugaresa.hr
SUMMARY:JOSIPA KOVČE rođ.Čar
DESCRIPTION:ROĐENA: 1932. GODINE
URL:https://cistoca-dugaresa.hr/event/josipa-kovce-rod-car/
LOCATION:Ukop na groblju Sv. Petar u Dugoj Resi\, Duga Resa\, Croatia (Local Name: Hrvatska)
CATEGORIES:Duga Resa - Sv. Petar
END:VEVENT
BEGIN:VEVENT
DTSTART;TZID=UTC:20240315T130000
DTEND;TZID=UTC:20240331T130000
DTSTAMP:20260425T185405
CREATED:20240314T053844Z
LAST-MODIFIED:20240314T053844Z
UID:4088-1710507600-1711890000@cistoca-dugaresa.hr
SUMMARY:prof.pl.VLADIMIR VRANIĆ
DESCRIPTION:ROĐEN: 1940. GODINE
URL:https://cistoca-dugaresa.hr/event/prof-pl-vladimir-vranic/
LOCATION:Ukop na groblju Sv. Petar u Dugoj Resi\, Duga Resa\, Croatia (Local Name: Hrvatska)
CATEGORIES:Duga Resa - Sv. Petar
END:VEVENT
BEGIN:VEVENT
DTSTART;TZID=UTC:20240318T130000
DTEND;TZID=UTC:20240331T130000
DTSTAMP:20260425T185405
CREATED:20240318T063359Z
LAST-MODIFIED:20240318T063359Z
UID:4090-1710766800-1711890000@cistoca-dugaresa.hr
SUMMARY:MILKA ŠPUNDAK rođ.Tomičić
DESCRIPTION:ROĐENA: 1934. GODINE
URL:https://cistoca-dugaresa.hr/event/milka-spundak-rod-tomicic/
LOCATION:Ukop na groblju Sv. Petar u Dugoj Resi\, Duga Resa\, Croatia (Local Name: Hrvatska)
CATEGORIES:Duga Resa - Sv. Petar
END:VEVENT
BEGIN:VEVENT
DTSTART;TZID=UTC:20240319T130000
DTEND;TZID=UTC:20240331T130000
DTSTAMP:20260425T185405
CREATED:20240318T073515Z
LAST-MODIFIED:20240318T073515Z
UID:4092-1710853200-1711890000@cistoca-dugaresa.hr
SUMMARY:ANA PAVLIĆ rođ.Sviličić
DESCRIPTION:ROĐENA: 1940. GODINE
URL:https://cistoca-dugaresa.hr/event/ana-pavlic-rod-svilicic/
LOCATION:Ukop na groblju Sv. Petar u Dugoj Resi\, Duga Resa\, Croatia (Local Name: Hrvatska)
CATEGORIES:Duga Resa - Sv. Petar
END:VEVENT
BEGIN:VEVENT
DTSTART;TZID=UTC:20240327T130000
DTEND;TZID=UTC:20240428T130000
DTSTAMP:20260425T185405
CREATED:20240326T065728Z
LAST-MODIFIED:20240326T065728Z
UID:4095-1711544400-1714309200@cistoca-dugaresa.hr
SUMMARY:dr. MIRA BIŠĆAN rođ.Krtić
DESCRIPTION:ROĐENA: 1948. GODINE
URL:https://cistoca-dugaresa.hr/event/dr-mira-biscan-rod-krtic/
LOCATION:Ukop na groblju Sv. Petar u Dugoj Resi\, Duga Resa\, Croatia (Local Name: Hrvatska)
CATEGORIES:Duga Resa - Sv. Petar
END:VEVENT
END:VCALENDAR