BEGIN:VCALENDAR
VERSION:2.0
PRODID:-//Čistoća Duga Resa - ECPv5.14.0.1//NONSGML v1.0//EN
CALSCALE:GREGORIAN
METHOD:PUBLISH
X-WR-CALNAME:Čistoća Duga Resa
X-ORIGINAL-URL:https://cistoca-dugaresa.hr
X-WR-CALDESC:Events for Čistoća Duga Resa
REFRESH-INTERVAL;VALUE=DURATION:PT1H
X-Robots-Tag:noindex
X-PUBLISHED-TTL:PT1H
BEGIN:VTIMEZONE
TZID:UTC
BEGIN:STANDARD
TZOFFSETFROM:+0000
TZOFFSETTO:+0000
TZNAME:UTC
DTSTART:20250101T000000
END:STANDARD
END:VTIMEZONE
BEGIN:VEVENT
DTSTART;TZID=UTC:20250821T110000
DTEND;TZID=UTC:20250921T110000
DTSTAMP:20260424T173437
CREATED:20250819T053734Z
LAST-MODIFIED:20250821T071609Z
UID:4715-1755774000-1758452400@cistoca-dugaresa.hr
SUMMARY:MIRA KELEKOVIĆ
DESCRIPTION:ROĐENA: 1935. GODINE
URL:https://cistoca-dugaresa.hr/event/mira-kelekovic/
LOCATION:Ukop na groblju Sv. Petar u Dugoj Resi\, Duga Resa\, Croatia (Local Name: Hrvatska)
CATEGORIES:Duga Resa - Sv. Petar
END:VEVENT
BEGIN:VEVENT
DTSTART;TZID=UTC:20250822T130000
DTEND;TZID=UTC:20250922T130000
DTSTAMP:20260424T173437
CREATED:20250821T071530Z
LAST-MODIFIED:20250821T071530Z
UID:4717-1755867600-1758546000@cistoca-dugaresa.hr
SUMMARY:ZDRAVKO IVANIĆ
DESCRIPTION:ROĐEN: 1944. GODINE
URL:https://cistoca-dugaresa.hr/event/zdravko-ivanic/
LOCATION:Ukop na groblju Sv. Petar u Dugoj Resi\, Duga Resa\, Croatia (Local Name: Hrvatska)
CATEGORIES:Duga Resa - Sv. Petar
END:VEVENT
BEGIN:VEVENT
DTSTART;TZID=UTC:20250826T110000
DTEND;TZID=UTC:20250926T110000
DTSTAMP:20260424T173437
CREATED:20250825T061857Z
LAST-MODIFIED:20250825T061857Z
UID:4720-1756206000-1758884400@cistoca-dugaresa.hr
SUMMARY:MARIJAN ŠTIMAC
DESCRIPTION:ROĐEN: 1957. GODINE
URL:https://cistoca-dugaresa.hr/event/marijan-stimac/
LOCATION:Ukop na groblju Sv. Petar u Dugoj Resi\, Duga Resa\, Croatia (Local Name: Hrvatska)
CATEGORIES:Duga Resa - Sv. Petar
END:VEVENT
BEGIN:VEVENT
DTSTART;TZID=UTC:20250909T130000
DTEND;TZID=UTC:20250930T130000
DTSTAMP:20260424T173437
CREATED:20250905T103609Z
LAST-MODIFIED:20250905T103609Z
UID:4727-1757422800-1759237200@cistoca-dugaresa.hr
SUMMARY:IVAN ŠEKETA
DESCRIPTION:ROĐEN: 1947. GODINE
URL:https://cistoca-dugaresa.hr/event/ivan-seketa/
LOCATION:Ukop na groblju Sv. Petar u Dugoj Resi\, Duga Resa\, Croatia (Local Name: Hrvatska)
CATEGORIES:Duga Resa - Sv. Petar
END:VEVENT
BEGIN:VEVENT
DTSTART;TZID=UTC:20250915T130000
DTEND;TZID=UTC:20250930T130000
DTSTAMP:20260424T173437
CREATED:20250912T121920Z
LAST-MODIFIED:20250912T121920Z
UID:4730-1757941200-1759237200@cistoca-dugaresa.hr
SUMMARY:MILKA ŽIVČIĆ rođ.Domšić
DESCRIPTION:ROĐENA: 1943. GODINE
URL:https://cistoca-dugaresa.hr/event/milka-zivcic-rod-domsic/
LOCATION:Ukop na groblju Sv. Petar u Dugoj Resi\, Duga Resa\, Croatia (Local Name: Hrvatska)
CATEGORIES:Duga Resa - Sv. Petar
END:VEVENT
BEGIN:VEVENT
DTSTART;TZID=UTC:20250916T130000
DTEND;TZID=UTC:20250930T130000
DTSTAMP:20260424T173437
CREATED:20250915T095843Z
LAST-MODIFIED:20250915T095843Z
UID:4737-1758027600-1759237200@cistoca-dugaresa.hr
SUMMARY:EDUARD BRBOT
DESCRIPTION:ROĐEN: 1943. GODINE
URL:https://cistoca-dugaresa.hr/event/eduard-brbot/
LOCATION:Ukop na groblju Sv. Petar u Dugoj Resi\, Duga Resa\, Croatia (Local Name: Hrvatska)
CATEGORIES:Duga Resa - Sv. Petar
END:VEVENT
BEGIN:VEVENT
DTSTART;TZID=UTC:20250919T130000
DTEND;TZID=UTC:20250930T130000
DTSTAMP:20260424T173437
CREATED:20250917T113120Z
LAST-MODIFIED:20250917T113734Z
UID:4741-1758286800-1759237200@cistoca-dugaresa.hr
SUMMARY:DANICA BOŽIĆ rođ.Trošić
DESCRIPTION:ROĐENA: 1932. GODINE
URL:https://cistoca-dugaresa.hr/event/danica-bozic-rod-trosic/
LOCATION:Ukop na groblju Sv. Petar u Dugoj Resi\, Duga Resa\, Croatia (Local Name: Hrvatska)
CATEGORIES:Duga Resa - Sv. Petar
END:VEVENT
BEGIN:VEVENT
DTSTART;TZID=UTC:20250924T130000
DTEND;TZID=UTC:20250930T130000
DTSTAMP:20260424T173437
CREATED:20250922T114810Z
LAST-MODIFIED:20250922T114810Z
UID:4745-1758718800-1759237200@cistoca-dugaresa.hr
SUMMARY:LADISLAV ŠUTEJ
DESCRIPTION:ROĐEN: 1951. GODINE
URL:https://cistoca-dugaresa.hr/event/ladislav-sutej/
LOCATION:Ukop na groblju Sv. Petar u Dugoj Resi\, Duga Resa\, Croatia (Local Name: Hrvatska)
CATEGORIES:Duga Resa - Sv. Petar
END:VEVENT
BEGIN:VEVENT
DTSTART;TZID=UTC:20250924T133000
DTEND;TZID=UTC:20250930T133000
DTSTAMP:20260424T173437
CREATED:20250923T110712Z
LAST-MODIFIED:20250923T110712Z
UID:4748-1758720600-1759239000@cistoca-dugaresa.hr
SUMMARY:MIJO BENIĆ-ŠKARJAK
DESCRIPTION:ROĐEN: 1954. GODINE
URL:https://cistoca-dugaresa.hr/event/mijo-benic-skarjak/
LOCATION:Ukop na groblju Sv. Petar u Dugoj Resi\, Duga Resa\, Croatia (Local Name: Hrvatska)
CATEGORIES:Duga Resa - Sv. Petar
END:VEVENT
BEGIN:VEVENT
DTSTART;TZID=UTC:20250926T130000
DTEND;TZID=UTC:20251026T130000
DTSTAMP:20260424T173437
CREATED:20250924T094514Z
LAST-MODIFIED:20250924T094514Z
UID:4758-1758891600-1761483600@cistoca-dugaresa.hr
SUMMARY:MARIJAN VRBANIĆ
DESCRIPTION:ROĐEN: 1968. GODINE
URL:https://cistoca-dugaresa.hr/event/marijan-vrbanic/
LOCATION:Ukop na groblju Sv. Petar u Dugoj Resi\, Duga Resa\, Croatia (Local Name: Hrvatska)
CATEGORIES:Duga Resa - Sv. Petar
END:VEVENT
END:VCALENDAR