BEGIN:VCALENDAR
VERSION:2.0
PRODID:-//Čistoća Duga Resa - ECPv5.14.0.1//NONSGML v1.0//EN
CALSCALE:GREGORIAN
METHOD:PUBLISH
X-WR-CALNAME:Čistoća Duga Resa
X-ORIGINAL-URL:https://cistoca-dugaresa.hr
X-WR-CALDESC:Events for Čistoća Duga Resa
REFRESH-INTERVAL;VALUE=DURATION:PT1H
X-Robots-Tag:noindex
X-PUBLISHED-TTL:PT1H
BEGIN:VTIMEZONE
TZID:UTC
BEGIN:STANDARD
TZOFFSETFROM:+0000
TZOFFSETTO:+0000
TZNAME:UTC
DTSTART:20230101T000000
END:STANDARD
END:VTIMEZONE
BEGIN:VEVENT
DTSTART;TZID=UTC:20230722T110000
DTEND;TZID=UTC:20230813T110000
DTSTAMP:20260426T061419
CREATED:20230721T125714Z
LAST-MODIFIED:20230721T125714Z
UID:3748-1690023600-1691924400@cistoca-dugaresa.hr
SUMMARY:LJUBICA VUKOVIĆ
DESCRIPTION:ROĐENA: 1935. GODINE
URL:https://cistoca-dugaresa.hr/event/ljubica-vukovic-2/
LOCATION:Ukop na groblju Sv. Petar u Dugoj Resi\, Duga Resa\, Croatia (Local Name: Hrvatska)
CATEGORIES:Duga Resa - Sv. Petar
END:VEVENT
BEGIN:VEVENT
DTSTART;TZID=UTC:20230725T130000
DTEND;TZID=UTC:20230813T130000
DTSTAMP:20260426T061419
CREATED:20230724T093838Z
LAST-MODIFIED:20230724T093838Z
UID:3750-1690290000-1691931600@cistoca-dugaresa.hr
SUMMARY:RUŽICA MIHALIĆ rođ.Kodrin
DESCRIPTION:ROĐENA: 1955. GODINE
URL:https://cistoca-dugaresa.hr/event/ruzica-mihalic-rod-kodrin/
LOCATION:Ukop na groblju Sv. Petar u Dugoj Resi\, Duga Resa\, Croatia (Local Name: Hrvatska)
CATEGORIES:Duga Resa - Sv. Petar
END:VEVENT
END:VCALENDAR