BEGIN:VCALENDAR
VERSION:2.0
PRODID:-//Čistoća Duga Resa - ECPv5.14.0.1//NONSGML v1.0//EN
CALSCALE:GREGORIAN
METHOD:PUBLISH
X-WR-CALNAME:Čistoća Duga Resa
X-ORIGINAL-URL:https://cistoca-dugaresa.hr
X-WR-CALDESC:Events for Čistoća Duga Resa
REFRESH-INTERVAL;VALUE=DURATION:PT1H
X-Robots-Tag:noindex
X-PUBLISHED-TTL:PT1H
BEGIN:VTIMEZONE
TZID:UTC
BEGIN:STANDARD
TZOFFSETFROM:+0000
TZOFFSETTO:+0000
TZNAME:UTC
DTSTART:20230101T000000
END:STANDARD
END:VTIMEZONE
BEGIN:VEVENT
DTSTART;TZID=UTC:20230722T110000
DTEND;TZID=UTC:20230813T110000
DTSTAMP:20260426T061334
CREATED:20230721T125714Z
LAST-MODIFIED:20230721T125714Z
UID:3748-1690023600-1691924400@cistoca-dugaresa.hr
SUMMARY:LJUBICA VUKOVIĆ
DESCRIPTION:ROĐENA: 1935. GODINE
URL:https://cistoca-dugaresa.hr/event/ljubica-vukovic-2/
LOCATION:Ukop na groblju Sv. Petar u Dugoj Resi\, Duga Resa\, Croatia (Local Name: Hrvatska)
CATEGORIES:Duga Resa - Sv. Petar
END:VEVENT
BEGIN:VEVENT
DTSTART;TZID=UTC:20230725T130000
DTEND;TZID=UTC:20230813T130000
DTSTAMP:20260426T061334
CREATED:20230724T093838Z
LAST-MODIFIED:20230724T093838Z
UID:3750-1690290000-1691931600@cistoca-dugaresa.hr
SUMMARY:RUŽICA MIHALIĆ rođ.Kodrin
DESCRIPTION:ROĐENA: 1955. GODINE
URL:https://cistoca-dugaresa.hr/event/ruzica-mihalic-rod-kodrin/
LOCATION:Ukop na groblju Sv. Petar u Dugoj Resi\, Duga Resa\, Croatia (Local Name: Hrvatska)
CATEGORIES:Duga Resa - Sv. Petar
END:VEVENT
BEGIN:VEVENT
DTSTART;TZID=UTC:20230803T110000
DTEND;TZID=UTC:20230820T110000
DTSTAMP:20260426T061334
CREATED:20230728T123830Z
LAST-MODIFIED:20230728T123830Z
UID:3753-1691060400-1692529200@cistoca-dugaresa.hr
SUMMARY:LJILJANA PANJEVIĆ
DESCRIPTION:ROĐENA: 1958. GODINE
URL:https://cistoca-dugaresa.hr/event/ljiljana-panjevic/
LOCATION:Ukop na groblju Sv. Petar u Dugoj Resi\, Duga Resa\, Croatia (Local Name: Hrvatska)
CATEGORIES:Duga Resa - Sv. Petar
END:VEVENT
BEGIN:VEVENT
DTSTART;TZID=UTC:20230807T130000
DTEND;TZID=UTC:20230827T130000
DTSTAMP:20260426T061334
CREATED:20230804T103205Z
LAST-MODIFIED:20230804T103205Z
UID:3759-1691413200-1693141200@cistoca-dugaresa.hr
SUMMARY:JASMINKA KRAŠIĆ rođ.Brozović
DESCRIPTION:ROĐENA: 1972. GODINE
URL:https://cistoca-dugaresa.hr/event/jasminka-krasic-rod-brozovic/
LOCATION:Ukop na groblju Sv. Petar u Dugoj Resi\, Duga Resa\, Croatia (Local Name: Hrvatska)
CATEGORIES:Duga Resa - Sv. Petar
END:VEVENT
BEGIN:VEVENT
DTSTART;TZID=UTC:20230807T133000
DTEND;TZID=UTC:20230827T133000
DTSTAMP:20260426T061334
CREATED:20230804T153143Z
LAST-MODIFIED:20230804T153143Z
UID:3761-1691415000-1693143000@cistoca-dugaresa.hr
SUMMARY:JARMILA PREKRATIĆ rođ.Kok
DESCRIPTION:ROĐENA: 1936. GODINE
URL:https://cistoca-dugaresa.hr/event/jarmila-prekratic-rod-kok/
LOCATION:Ukop na groblju Sv. Petar u Dugoj Resi\, Duga Resa\, Croatia (Local Name: Hrvatska)
CATEGORIES:Duga Resa - Sv. Petar
END:VEVENT
BEGIN:VEVENT
DTSTART;TZID=UTC:20230808T130000
DTEND;TZID=UTC:20230827T130000
DTSTAMP:20260426T061334
CREATED:20230807T104154Z
LAST-MODIFIED:20230807T104154Z
UID:3764-1691499600-1693141200@cistoca-dugaresa.hr
SUMMARY:JURAJ MALOVIĆ
DESCRIPTION:ROĐEN: 1951.GODINE
URL:https://cistoca-dugaresa.hr/event/juraj-malovic/
LOCATION:Ukop na groblju Sv. Petar u Dugoj Resi\, Duga Resa\, Croatia (Local Name: Hrvatska)
CATEGORIES:Duga Resa - Sv. Petar
END:VEVENT
END:VCALENDAR