BEGIN:VCALENDAR
VERSION:2.0
PRODID:-//Čistoća Duga Resa - ECPv5.14.0.1//NONSGML v1.0//EN
CALSCALE:GREGORIAN
METHOD:PUBLISH
X-WR-CALNAME:Čistoća Duga Resa
X-ORIGINAL-URL:https://cistoca-dugaresa.hr
X-WR-CALDESC:Events for Čistoća Duga Resa
REFRESH-INTERVAL;VALUE=DURATION:PT1H
X-Robots-Tag:noindex
X-PUBLISHED-TTL:PT1H
BEGIN:VTIMEZONE
TZID:UTC
BEGIN:STANDARD
TZOFFSETFROM:+0000
TZOFFSETTO:+0000
TZNAME:UTC
DTSTART:20230101T000000
END:STANDARD
END:VTIMEZONE
BEGIN:VEVENT
DTSTART;TZID=UTC:20230810T130000
DTEND;TZID=UTC:20230831T130000
DTSTAMP:20260426T044335
CREATED:20230809T080723Z
LAST-MODIFIED:20230809T080723Z
UID:3772-1691672400-1693486800@cistoca-dugaresa.hr
SUMMARY:ANDRIJA ĆURILOVIĆ
DESCRIPTION:ROĐEN: 1962. GODINE
URL:https://cistoca-dugaresa.hr/event/andrija-curilovic/
LOCATION:Ukop na groblju Sv. Petar u Dugoj Resi\, Duga Resa\, Croatia (Local Name: Hrvatska)
CATEGORIES:Duga Resa - Sv. Petar
END:VEVENT
BEGIN:VEVENT
DTSTART;TZID=UTC:20230812T140000
DTEND;TZID=UTC:20230831T140000
DTSTAMP:20260426T044335
CREATED:20230811T074817Z
LAST-MODIFIED:20230811T074817Z
UID:3776-1691848800-1693490400@cistoca-dugaresa.hr
SUMMARY:ANKA VOJNIĆ
DESCRIPTION:ROĐENA: 1932. GODINE
URL:https://cistoca-dugaresa.hr/event/anka-vojnic/
LOCATION:Ukop na groblju Sv. Petar u Dugoj Resi\, Duga Resa\, Croatia (Local Name: Hrvatska)
CATEGORIES:Duga Resa - Sv. Petar
END:VEVENT
BEGIN:VEVENT
DTSTART;TZID=UTC:20230812T143000
DTEND;TZID=UTC:20230831T143000
DTSTAMP:20260426T044335
CREATED:20230810T122417Z
LAST-MODIFIED:20230810T122417Z
UID:3774-1691850600-1693492200@cistoca-dugaresa.hr
SUMMARY:MARICA KEKIĆ rođ.Leš
DESCRIPTION:ROĐENA: 1936. GODINE
URL:https://cistoca-dugaresa.hr/event/marica-kekic-rod-les/
LOCATION:Ukop na groblju Sv. Petar u Dugoj Resi\, Duga Resa\, Croatia (Local Name: Hrvatska)
CATEGORIES:Duga Resa - Sv. Petar
END:VEVENT
BEGIN:VEVENT
DTSTART;TZID=UTC:20230818T130000
DTEND;TZID=UTC:20230904T130000
DTSTAMP:20260426T044335
CREATED:20230817T092506Z
LAST-MODIFIED:20230825T120238Z
UID:3779-1692363600-1693832400@cistoca-dugaresa.hr
SUMMARY:MILAN LIVAIĆ
DESCRIPTION:ROĐEN: 1950. GODINE
URL:https://cistoca-dugaresa.hr/event/milan-livaic/
LOCATION:Ukop na groblju Sv. Petar u Dugoj Resi\, Duga Resa\, Croatia (Local Name: Hrvatska)
CATEGORIES:Duga Resa - Sv. Petar
END:VEVENT
BEGIN:VEVENT
DTSTART;TZID=UTC:20230821T133000
DTEND;TZID=UTC:20230904T133000
DTSTAMP:20260426T044335
CREATED:20230821T055035Z
LAST-MODIFIED:20230825T120057Z
UID:3784-1692624600-1693834200@cistoca-dugaresa.hr
SUMMARY:ANA GALOVIĆ rođ. Malović
DESCRIPTION:ROĐENA: 1925. GODINE
URL:https://cistoca-dugaresa.hr/event/ana-galovic/
LOCATION:Ukop na groblju Sv. Petar u Dugoj Resi\, Duga Resa\, Croatia (Local Name: Hrvatska)
CATEGORIES:Duga Resa - Sv. Petar
END:VEVENT
BEGIN:VEVENT
DTSTART;TZID=UTC:20230821T140000
DTEND;TZID=UTC:20230904T140000
DTSTAMP:20260426T044335
CREATED:20230821T060344Z
LAST-MODIFIED:20230825T120125Z
UID:3787-1692626400-1693836000@cistoca-dugaresa.hr
SUMMARY:MARIJA VOJNIĆ rođ. Gračan
DESCRIPTION:ROĐENA: 1938. GODINE
URL:https://cistoca-dugaresa.hr/event/marija-vojnic-rod-gracan/
LOCATION:Ukop na groblju Sv. Petar u Dugoj Resi\, Duga Resa\, Croatia (Local Name: Hrvatska)
CATEGORIES:Duga Resa - Sv. Petar
END:VEVENT
BEGIN:VEVENT
DTSTART;TZID=UTC:20230828T130000
DTEND;TZID=UTC:20230911T130000
DTSTAMP:20260426T044335
CREATED:20230825T070721Z
LAST-MODIFIED:20230825T120150Z
UID:3789-1693227600-1694437200@cistoca-dugaresa.hr
SUMMARY:ANĐELKA IVANČIĆ rođ. Tončić
DESCRIPTION:ROĐENA: 1930. GODINE
URL:https://cistoca-dugaresa.hr/event/andelka-ivancic-rod-toncic/
LOCATION:Ukop na groblju Sv. Petar u Dugoj Resi\, Duga Resa\, Croatia (Local Name: Hrvatska)
CATEGORIES:Duga Resa - Sv. Petar
END:VEVENT
BEGIN:VEVENT
DTSTART;TZID=UTC:20230828T133000
DTEND;TZID=UTC:20230911T133000
DTSTAMP:20260426T044335
CREATED:20230828T054459Z
LAST-MODIFIED:20230828T054459Z
UID:3794-1693229400-1694439000@cistoca-dugaresa.hr
SUMMARY:PETAR BELAVIĆ
DESCRIPTION:ROĐEN: 1966. GODINE
URL:https://cistoca-dugaresa.hr/event/petar-belavic/
LOCATION:Ukop na groblju Sv. Petar u Dugoj Resi\, Duga Resa\, Croatia (Local Name: Hrvatska)
CATEGORIES:Duga Resa - Sv. Petar
END:VEVENT
END:VCALENDAR