BEGIN:VCALENDAR
VERSION:2.0
PRODID:-//Čistoća Duga Resa - ECPv5.14.0.1//NONSGML v1.0//EN
CALSCALE:GREGORIAN
METHOD:PUBLISH
X-WR-CALNAME:Čistoća Duga Resa
X-ORIGINAL-URL:https://cistoca-dugaresa.hr
X-WR-CALDESC:Events for Čistoća Duga Resa
REFRESH-INTERVAL;VALUE=DURATION:PT1H
X-Robots-Tag:noindex
X-PUBLISHED-TTL:PT1H
BEGIN:VTIMEZONE
TZID:UTC
BEGIN:STANDARD
TZOFFSETFROM:+0000
TZOFFSETTO:+0000
TZNAME:UTC
DTSTART:20230101T000000
END:STANDARD
END:VTIMEZONE
BEGIN:VEVENT
DTSTART;TZID=UTC:20230909T110000
DTEND;TZID=UTC:20230930T110000
DTSTAMP:20260426T044542
CREATED:20230904T100032Z
LAST-MODIFIED:20230904T100032Z
UID:3804-1694257200-1696071600@cistoca-dugaresa.hr
SUMMARY:BRANKO GORŠIĆ
DESCRIPTION:ROĐEN: 1955. GODINE
URL:https://cistoca-dugaresa.hr/event/branko-gorsic/
LOCATION:Ukop na groblju Sv. Petar u Dugoj Resi\, Duga Resa\, Croatia (Local Name: Hrvatska)
CATEGORIES:Duga Resa - Sv. Petar
END:VEVENT
BEGIN:VEVENT
DTSTART;TZID=UTC:20230911T150000
DTEND;TZID=UTC:20230930T150000
DTSTAMP:20260426T044542
CREATED:20230908T085601Z
LAST-MODIFIED:20230908T085601Z
UID:3807-1694444400-1696086000@cistoca-dugaresa.hr
SUMMARY:PETAR STOJKOVIĆ
DESCRIPTION:ROĐEN: 1939. GODINE
URL:https://cistoca-dugaresa.hr/event/petar-stojkovic/
LOCATION:Ukop na groblju Sv. Petar u Dugoj Resi\, Duga Resa\, Croatia (Local Name: Hrvatska)
CATEGORIES:Duga Resa - Sv. Petar
END:VEVENT
BEGIN:VEVENT
DTSTART;TZID=UTC:20230914T140000
DTEND;TZID=UTC:20230930T140000
DTSTAMP:20260426T044542
CREATED:20230913T120659Z
LAST-MODIFIED:20230913T120659Z
UID:3810-1694700000-1696082400@cistoca-dugaresa.hr
SUMMARY:BOŽIDAR ŠTEDUL
DESCRIPTION:ROĐEN: 1953. GODINE
URL:https://cistoca-dugaresa.hr/event/bozidar-stedul/
LOCATION:Ukop na groblju Sv. Petar u Dugoj Resi\, Duga Resa\, Croatia (Local Name: Hrvatska)
CATEGORIES:Duga Resa - Sv. Petar
END:VEVENT
BEGIN:VEVENT
DTSTART;TZID=UTC:20230918T130000
DTEND;TZID=UTC:20231002T130000
DTSTAMP:20260426T044542
CREATED:20230915T112119Z
LAST-MODIFIED:20230915T112254Z
UID:3812-1695042000-1696251600@cistoca-dugaresa.hr
SUMMARY:ANA SESTRIĆ rođ.Bučar
DESCRIPTION:ROĐENA: 1954. GODINE
URL:https://cistoca-dugaresa.hr/event/ana-sestric/
LOCATION:Ukop na groblju Sv. Petar u Dugoj Resi\, Duga Resa\, Croatia (Local Name: Hrvatska)
CATEGORIES:Duga Resa - Sv. Petar
END:VEVENT
BEGIN:VEVENT
DTSTART;TZID=UTC:20230918T133000
DTEND;TZID=UTC:20231002T133000
DTSTAMP:20260426T044542
CREATED:20230918T051452Z
LAST-MODIFIED:20230918T051452Z
UID:3815-1695043800-1696253400@cistoca-dugaresa.hr
SUMMARY:NADA PERUŠIĆ rođ. Pogačić
DESCRIPTION:ROĐENA: 1931. GODINE
URL:https://cistoca-dugaresa.hr/event/nada-perusic-rod-pogacic/
LOCATION:Ukop na groblju Sv. Petar u Dugoj Resi\, Duga Resa\, Croatia (Local Name: Hrvatska)
CATEGORIES:Duga Resa - Sv. Petar
END:VEVENT
BEGIN:VEVENT
DTSTART;TZID=UTC:20230920T130000
DTEND;TZID=UTC:20231004T130000
DTSTAMP:20260426T044542
CREATED:20230918T095837Z
LAST-MODIFIED:20230918T095837Z
UID:3817-1695214800-1696424400@cistoca-dugaresa.hr
SUMMARY:MARIJA KOKALJ rođ. Novak
DESCRIPTION:ROĐENA: 1932. GODINE
URL:https://cistoca-dugaresa.hr/event/marija-kokalj-rod-novak/
LOCATION:Ukop na groblju Sv. Petar u Dugoj Resi\, Duga Resa\, Croatia (Local Name: Hrvatska)
CATEGORIES:Duga Resa - Sv. Petar
END:VEVENT
BEGIN:VEVENT
DTSTART;TZID=UTC:20230922T140000
DTEND;TZID=UTC:20231006T140000
DTSTAMP:20260426T044542
CREATED:20230921T102532Z
LAST-MODIFIED:20230921T102532Z
UID:3820-1695391200-1696600800@cistoca-dugaresa.hr
SUMMARY:BRANKA MILANOVIĆ
DESCRIPTION:ROĐENA: 1949. GODINE
URL:https://cistoca-dugaresa.hr/event/branka-milanovic/
LOCATION:Ukop na groblju Sv. Petar u Dugoj Resi\, Duga Resa\, Croatia (Local Name: Hrvatska)
CATEGORIES:Duga Resa - Sv. Petar
END:VEVENT
BEGIN:VEVENT
DTSTART;TZID=UTC:20230923T130000
DTEND;TZID=UTC:20231007T130000
DTSTAMP:20260426T044542
CREATED:20230922T103433Z
LAST-MODIFIED:20230922T103433Z
UID:3822-1695474000-1696683600@cistoca-dugaresa.hr
SUMMARY:MARICA RADINOVIĆ rođ. Bertović
DESCRIPTION:ROĐENA: 1952. GODINE
URL:https://cistoca-dugaresa.hr/event/marica-radinovic-rod-bertovic/
LOCATION:Ukop na groblju Sv. Petar u Dugoj Resi\, Duga Resa\, Croatia (Local Name: Hrvatska)
CATEGORIES:Duga Resa - Sv. Petar
END:VEVENT
BEGIN:VEVENT
DTSTART;TZID=UTC:20230926T130000
DTEND;TZID=UTC:20231026T130000
DTSTAMP:20260426T044542
CREATED:20230925T101300Z
LAST-MODIFIED:20230925T101300Z
UID:3824-1695733200-1698325200@cistoca-dugaresa.hr
SUMMARY:KATA BROZIĆ rođ.Demšar
DESCRIPTION:ROĐENA: 1939. GODINE
URL:https://cistoca-dugaresa.hr/event/kata-brozic-rod-demsar/
LOCATION:Ukop na groblju Sv. Petar u Dugoj Resi\, Duga Resa\, Croatia (Local Name: Hrvatska)
CATEGORIES:Duga Resa - Sv. Petar
END:VEVENT
BEGIN:VEVENT
DTSTART;TZID=UTC:20230926T133000
DTEND;TZID=UTC:20231026T133000
DTSTAMP:20260426T044542
CREATED:20230925T101414Z
LAST-MODIFIED:20230925T101414Z
UID:3826-1695735000-1698327000@cistoca-dugaresa.hr
SUMMARY:MILENA POŽAR rođ.Malović
DESCRIPTION:ROĐENA: 1931. GODINE
URL:https://cistoca-dugaresa.hr/event/milena-pozar-rod-malovic/
LOCATION:Ukop na groblju Sv. Petar u Dugoj Resi\, Duga Resa\, Croatia (Local Name: Hrvatska)
CATEGORIES:Duga Resa - Sv. Petar
END:VEVENT
BEGIN:VEVENT
DTSTART;TZID=UTC:20230928T110000
DTEND;TZID=UTC:20231028T110000
DTSTAMP:20260426T044542
CREATED:20230927T103757Z
LAST-MODIFIED:20230927T103757Z
UID:3828-1695898800-1698490800@cistoca-dugaresa.hr
SUMMARY:LJUBICA SAMOVOJSKA rođ.Frketić
DESCRIPTION:ROĐENA: 1935. GODINE
URL:https://cistoca-dugaresa.hr/event/ljubica-samovojska-rod-frketic/
LOCATION:Ukop na groblju Sv. Petar u Dugoj Resi\, Duga Resa\, Croatia (Local Name: Hrvatska)
CATEGORIES:Duga Resa - Sv. Petar
END:VEVENT
END:VCALENDAR