BEGIN:VCALENDAR
VERSION:2.0
PRODID:-//Čistoća Duga Resa - ECPv5.14.0.1//NONSGML v1.0//EN
CALSCALE:GREGORIAN
METHOD:PUBLISH
X-WR-CALNAME:Čistoća Duga Resa
X-ORIGINAL-URL:https://cistoca-dugaresa.hr
X-WR-CALDESC:Events for Čistoća Duga Resa
REFRESH-INTERVAL;VALUE=DURATION:PT1H
X-Robots-Tag:noindex
X-PUBLISHED-TTL:PT1H
BEGIN:VTIMEZONE
TZID:UTC
BEGIN:STANDARD
TZOFFSETFROM:+0000
TZOFFSETTO:+0000
TZNAME:UTC
DTSTART:20230101T000000
END:STANDARD
END:VTIMEZONE
BEGIN:VEVENT
DTSTART;TZID=UTC:20230926T130000
DTEND;TZID=UTC:20231026T130000
DTSTAMP:20260426T032246
CREATED:20230925T101300Z
LAST-MODIFIED:20230925T101300Z
UID:3824-1695733200-1698325200@cistoca-dugaresa.hr
SUMMARY:KATA BROZIĆ rođ.Demšar
DESCRIPTION:ROĐENA: 1939. GODINE
URL:https://cistoca-dugaresa.hr/event/kata-brozic-rod-demsar/
LOCATION:Ukop na groblju Sv. Petar u Dugoj Resi\, Duga Resa\, Croatia (Local Name: Hrvatska)
CATEGORIES:Duga Resa - Sv. Petar
END:VEVENT
BEGIN:VEVENT
DTSTART;TZID=UTC:20230926T133000
DTEND;TZID=UTC:20231026T133000
DTSTAMP:20260426T032246
CREATED:20230925T101414Z
LAST-MODIFIED:20230925T101414Z
UID:3826-1695735000-1698327000@cistoca-dugaresa.hr
SUMMARY:MILENA POŽAR rođ.Malović
DESCRIPTION:ROĐENA: 1931. GODINE
URL:https://cistoca-dugaresa.hr/event/milena-pozar-rod-malovic/
LOCATION:Ukop na groblju Sv. Petar u Dugoj Resi\, Duga Resa\, Croatia (Local Name: Hrvatska)
CATEGORIES:Duga Resa - Sv. Petar
END:VEVENT
BEGIN:VEVENT
DTSTART;TZID=UTC:20230928T110000
DTEND;TZID=UTC:20231028T110000
DTSTAMP:20260426T032246
CREATED:20230927T103757Z
LAST-MODIFIED:20230927T103757Z
UID:3828-1695898800-1698490800@cistoca-dugaresa.hr
SUMMARY:LJUBICA SAMOVOJSKA rođ.Frketić
DESCRIPTION:ROĐENA: 1935. GODINE
URL:https://cistoca-dugaresa.hr/event/ljubica-samovojska-rod-frketic/
LOCATION:Ukop na groblju Sv. Petar u Dugoj Resi\, Duga Resa\, Croatia (Local Name: Hrvatska)
CATEGORIES:Duga Resa - Sv. Petar
END:VEVENT
BEGIN:VEVENT
DTSTART;TZID=UTC:20231002T133000
DTEND;TZID=UTC:20231016T133000
DTSTAMP:20260426T032246
CREATED:20231002T051403Z
LAST-MODIFIED:20231002T051403Z
UID:3831-1696253400-1697463000@cistoca-dugaresa.hr
SUMMARY:MARIJA HORVAT rođ. Šušterić
DESCRIPTION:ROĐENA: 1929. GODINE
URL:https://cistoca-dugaresa.hr/event/marija-horvat-rod-susteric/
LOCATION:Ukop na groblju Sv. Petar u Dugoj Resi\, Duga Resa\, Croatia (Local Name: Hrvatska)
CATEGORIES:Duga Resa - Sv. Petar
END:VEVENT
BEGIN:VEVENT
DTSTART;TZID=UTC:20231002T140000
DTEND;TZID=UTC:20231016T140000
DTSTAMP:20260426T032246
CREATED:20231002T051614Z
LAST-MODIFIED:20231002T051614Z
UID:3833-1696255200-1697464800@cistoca-dugaresa.hr
SUMMARY:LJILJANA LUKETIĆ rođ. Biličić
DESCRIPTION:ROĐENA: 1962. GODINE
URL:https://cistoca-dugaresa.hr/event/ljiljana-luketic-rod-bilicic/
LOCATION:Ukop na groblju Sv. Petar u Dugoj Resi\, Duga Resa\, Croatia (Local Name: Hrvatska)
CATEGORIES:Duga Resa - Sv. Petar
END:VEVENT
BEGIN:VEVENT
DTSTART;TZID=UTC:20231009T140000
DTEND;TZID=UTC:20231031T140000
DTSTAMP:20260426T032246
CREATED:20231007T140633Z
LAST-MODIFIED:20231007T140633Z
UID:3837-1696860000-1698760800@cistoca-dugaresa.hr
SUMMARY:DRAGUTIN DUGANIĆ
DESCRIPTION:ROĐEN: 1933. GODINE
URL:https://cistoca-dugaresa.hr/event/dragutin-duganic/
LOCATION:Ukop na groblju Sv. Petar u Dugoj Resi\, Duga Resa\, Croatia (Local Name: Hrvatska)
CATEGORIES:Duga Resa - Sv. Petar
END:VEVENT
BEGIN:VEVENT
DTSTART;TZID=UTC:20231010T130000
DTEND;TZID=UTC:20231031T130000
DTSTAMP:20260426T032246
CREATED:20231009T062826Z
LAST-MODIFIED:20231009T062826Z
UID:3839-1696942800-1698757200@cistoca-dugaresa.hr
SUMMARY:VLADO RENDULIĆ
DESCRIPTION:ROĐEN: 1957. GODINE
URL:https://cistoca-dugaresa.hr/event/vlado-rendulic/
LOCATION:Ukop na groblju Sv. Petar u Dugoj Resi\, Duga Resa\, Croatia (Local Name: Hrvatska)
CATEGORIES:Duga Resa - Sv. Petar
END:VEVENT
END:VCALENDAR