BEGIN:VCALENDAR
VERSION:2.0
PRODID:-//Čistoća Duga Resa - ECPv5.14.0.1//NONSGML v1.0//EN
CALSCALE:GREGORIAN
METHOD:PUBLISH
X-WR-CALNAME:Čistoća Duga Resa
X-ORIGINAL-URL:https://cistoca-dugaresa.hr
X-WR-CALDESC:Events for Čistoća Duga Resa
REFRESH-INTERVAL;VALUE=DURATION:PT1H
X-Robots-Tag:noindex
X-PUBLISHED-TTL:PT1H
BEGIN:VTIMEZONE
TZID:UTC
BEGIN:STANDARD
TZOFFSETFROM:+0000
TZOFFSETTO:+0000
TZNAME:UTC
DTSTART:20230101T000000
END:STANDARD
END:VTIMEZONE
BEGIN:VEVENT
DTSTART;TZID=UTC:20231123T130000
DTEND;TZID=UTC:20231224T130000
DTSTAMP:20260426T004316
CREATED:20231122T085601Z
LAST-MODIFIED:20231122T085601Z
UID:3881-1700744400-1703422800@cistoca-dugaresa.hr
SUMMARY:KATICA HRBOLIĆ rođ.Car
DESCRIPTION:ROĐENA: 1950. GODINE
URL:https://cistoca-dugaresa.hr/event/katica-hrbolic-rod-car/
LOCATION:Ukop na groblju Sv. Petar u Dugoj Resi\, Duga Resa\, Croatia (Local Name: Hrvatska)
CATEGORIES:Duga Resa - Sv. Petar
END:VEVENT
BEGIN:VEVENT
DTSTART;TZID=UTC:20231128T130000
DTEND;TZID=UTC:20231224T130000
DTSTAMP:20260426T004316
CREATED:20231128T121516Z
LAST-MODIFIED:20231128T121516Z
UID:3888-1701176400-1703422800@cistoca-dugaresa.hr
SUMMARY:BARA TRUPKOVIĆ rođ.Belan
DESCRIPTION:ROĐENA: 1937. GODINE
URL:https://cistoca-dugaresa.hr/event/bara-trupkovic-rod-belan/
LOCATION:Ukop na groblju Sv. Petar u Dugoj Resi\, Duga Resa\, Croatia (Local Name: Hrvatska)
CATEGORIES:Duga Resa - Sv. Petar
END:VEVENT
BEGIN:VEVENT
DTSTART;TZID=UTC:20231201T130000
DTEND;TZID=UTC:20231231T130000
DTSTAMP:20260426T004316
CREATED:20231129T133631Z
LAST-MODIFIED:20231129T133631Z
UID:3897-1701435600-1704027600@cistoca-dugaresa.hr
SUMMARY:TOMISLAV LIPOVŠĆAK
DESCRIPTION:ROĐEN: 1959. GODINE
URL:https://cistoca-dugaresa.hr/event/tomislav-lipovscak/
LOCATION:Ukop na groblju Sv. Petar u Dugoj Resi\, Duga Resa\, Croatia (Local Name: Hrvatska)
CATEGORIES:Duga Resa - Sv. Petar
END:VEVENT
BEGIN:VEVENT
DTSTART;TZID=UTC:20231202T130000
DTEND;TZID=UTC:20231231T130000
DTSTAMP:20260426T004316
CREATED:20231201T060616Z
LAST-MODIFIED:20231201T060616Z
UID:3900-1701522000-1704027600@cistoca-dugaresa.hr
SUMMARY:MIKO BRCKOVIĆ
DESCRIPTION:ROĐEN: 1947. GODINE
URL:https://cistoca-dugaresa.hr/event/miko-brckovic/
LOCATION:Ukop na groblju Sv. Petar u Dugoj Resi\, Duga Resa\, Croatia (Local Name: Hrvatska)
CATEGORIES:Duga Resa - Sv. Petar
END:VEVENT
BEGIN:VEVENT
DTSTART;TZID=UTC:20231205T130000
DTEND;TZID=UTC:20231231T130000
DTSTAMP:20260426T004316
CREATED:20231204T111853Z
LAST-MODIFIED:20231204T111853Z
UID:3902-1701781200-1704027600@cistoca-dugaresa.hr
SUMMARY:DRAGICA OSTRONIĆ
DESCRIPTION:ROĐENA: 1953. GODINE
URL:https://cistoca-dugaresa.hr/event/dragica-ostronic/
LOCATION:Ukop na groblju Sv. Petar u Dugoj Resi\, Duga Resa\, Croatia (Local Name: Hrvatska)
CATEGORIES:Duga Resa - Sv. Petar
END:VEVENT
BEGIN:VEVENT
DTSTART;TZID=UTC:20231206T130000
DTEND;TZID=UTC:20231220T130000
DTSTAMP:20260426T004316
CREATED:20231205T074236Z
LAST-MODIFIED:20231205T074236Z
UID:3904-1701867600-1703077200@cistoca-dugaresa.hr
SUMMARY:ANA MIHALIĆ rođ. Mikuljan
DESCRIPTION:ROĐENA: 1936. GODINE
URL:https://cistoca-dugaresa.hr/event/ana-mihalic-rod-mikuljan/
LOCATION:Ukop na groblju Sv. Petar u Dugoj Resi\, Duga Resa\, Croatia (Local Name: Hrvatska)
CATEGORIES:Duga Resa - Sv. Petar
END:VEVENT
BEGIN:VEVENT
DTSTART;TZID=UTC:20231209T130000
DTEND;TZID=UTC:20231231T130000
DTSTAMP:20260426T004316
CREATED:20231211T105322Z
LAST-MODIFIED:20231211T105350Z
UID:3909-1702126800-1704027600@cistoca-dugaresa.hr
SUMMARY:LJUDMILA BUKOVAC rođ. Maričić
DESCRIPTION:ROĐENA. 1930. GODINE
URL:https://cistoca-dugaresa.hr/event/ljudmila-bukovac/
LOCATION:Ukop na groblju Sv. Petar u Dugoj Resi\, Duga Resa\, Croatia (Local Name: Hrvatska)
CATEGORIES:Duga Resa - Sv. Petar
END:VEVENT
BEGIN:VEVENT
DTSTART;TZID=UTC:20231213T130000
DTEND;TZID=UTC:20231231T130000
DTSTAMP:20260426T004316
CREATED:20231211T105209Z
LAST-MODIFIED:20231211T105209Z
UID:3907-1702472400-1704027600@cistoca-dugaresa.hr
SUMMARY:VLADIMIR PADEŽANIN
DESCRIPTION:ROĐEN: 1948.GODINE
URL:https://cistoca-dugaresa.hr/event/vladimir-padezanin/
LOCATION:Ukop na groblju Sv. Petar u Dugoj Resi\, Duga Resa\, Croatia (Local Name: Hrvatska)
CATEGORIES:Duga Resa - Sv. Petar
END:VEVENT
BEGIN:VEVENT
DTSTART;TZID=UTC:20231214T133000
DTEND;TZID=UTC:20231231T133000
DTSTAMP:20260426T004316
CREATED:20231213T124645Z
LAST-MODIFIED:20231213T124645Z
UID:3912-1702560600-1704029400@cistoca-dugaresa.hr
SUMMARY:BRANKO ŠEKETA
DESCRIPTION:ROĐEN: 1936. GODINE
URL:https://cistoca-dugaresa.hr/event/branko-seketa/
LOCATION:Ukop na groblju Sv. Petar u Dugoj Resi\, Duga Resa\, Croatia (Local Name: Hrvatska)
CATEGORIES:Duga Resa - Sv. Petar
END:VEVENT
BEGIN:VEVENT
DTSTART;TZID=UTC:20231214T140000
DTEND;TZID=UTC:20231231T140000
DTSTAMP:20260426T004316
CREATED:20231213T124813Z
LAST-MODIFIED:20231213T124813Z
UID:3914-1702562400-1704031200@cistoca-dugaresa.hr
SUMMARY:MARA MARČAC rođ.Petrunić
DESCRIPTION:ROĐENA: 1934. GODINE
URL:https://cistoca-dugaresa.hr/event/mara-marcac-rod-petrunic/
LOCATION:Ukop na groblju Sv. Petar u Dugoj Resi\, Duga Resa\, Croatia (Local Name: Hrvatska)
CATEGORIES:Duga Resa - Sv. Petar
END:VEVENT
BEGIN:VEVENT
DTSTART;TZID=UTC:20231218T130000
DTEND;TZID=UTC:20240101T130000
DTSTAMP:20260426T004316
CREATED:20231217T120042Z
LAST-MODIFIED:20231217T120042Z
UID:3916-1702904400-1704114000@cistoca-dugaresa.hr
SUMMARY:RUŽA CAPAN rođ. Duganić
DESCRIPTION:ROĐENA: 1932. GODINE
URL:https://cistoca-dugaresa.hr/event/ruza-capan-rod-duganic/
LOCATION:Ukop na groblju Sv. Petar u Dugoj Resi\, Duga Resa\, Croatia (Local Name: Hrvatska)
CATEGORIES:Duga Resa - Sv. Petar
END:VEVENT
BEGIN:VEVENT
DTSTART;TZID=UTC:20231219T130000
DTEND;TZID=UTC:20240107T130000
DTSTAMP:20260426T004316
CREATED:20231218T102737Z
LAST-MODIFIED:20231218T102737Z
UID:3920-1702990800-1704632400@cistoca-dugaresa.hr
SUMMARY:MILKA MILINKOVIĆ
DESCRIPTION:ROĐENA: 1938. GODINE
URL:https://cistoca-dugaresa.hr/event/milka-milinkovic/
LOCATION:Ukop na groblju Sv. Petar u Dugoj Resi\, Duga Resa\, Croatia (Local Name: Hrvatska)
CATEGORIES:Duga Resa - Sv. Petar
END:VEVENT
BEGIN:VEVENT
DTSTART;TZID=UTC:20231220T120000
DTEND;TZID=UTC:20240101T120000
DTSTAMP:20260426T004316
CREATED:20231219T135514Z
LAST-MODIFIED:20231219T135514Z
UID:3923-1703073600-1704110400@cistoca-dugaresa.hr
SUMMARY:REZIKA CVITKOVIć rođ.Vranić
DESCRIPTION:ROĐENA: 1934. GODINE
URL:https://cistoca-dugaresa.hr/event/rezika-cvitkovic-rod-vranic/
LOCATION:Ukop na groblju Sv. Petar u Dugoj Resi\, Duga Resa\, Croatia (Local Name: Hrvatska)
CATEGORIES:Duga Resa - Sv. Petar
END:VEVENT
END:VCALENDAR