BEGIN:VCALENDAR
VERSION:2.0
PRODID:-//Čistoća Duga Resa - ECPv5.14.0.1//NONSGML v1.0//EN
CALSCALE:GREGORIAN
METHOD:PUBLISH
X-WR-CALNAME:Čistoća Duga Resa
X-ORIGINAL-URL:https://cistoca-dugaresa.hr
X-WR-CALDESC:Events for Čistoća Duga Resa
REFRESH-INTERVAL;VALUE=DURATION:PT1H
X-Robots-Tag:noindex
X-PUBLISHED-TTL:PT1H
BEGIN:VTIMEZONE
TZID:UTC
BEGIN:STANDARD
TZOFFSETFROM:+0000
TZOFFSETTO:+0000
TZNAME:UTC
DTSTART:20240101T000000
END:STANDARD
END:VTIMEZONE
BEGIN:VEVENT
DTSTART;TZID=UTC:20240426T150000
DTEND;TZID=UTC:20240531T150000
DTSTAMP:20260425T174616
CREATED:20240426T085943Z
LAST-MODIFIED:20240426T085943Z
UID:4120-1714143600-1717167600@cistoca-dugaresa.hr
SUMMARY:ANTUN GOLDAŠIĆ
DESCRIPTION:ROĐEN: 1960. GODINE
URL:https://cistoca-dugaresa.hr/event/antun-goldasic/
LOCATION:Ukop na groblju Sv. Petar u Dugoj Resi\, Duga Resa\, Croatia (Local Name: Hrvatska)
CATEGORIES:Duga Resa - Sv. Petar
END:VEVENT
BEGIN:VEVENT
DTSTART;TZID=UTC:20240429T130000
DTEND;TZID=UTC:20240531T130000
DTSTAMP:20260425T174616
CREATED:20240429T043808Z
LAST-MODIFIED:20240429T043808Z
UID:4123-1714395600-1717160400@cistoca-dugaresa.hr
SUMMARY:STJEPAN BELAVIĆ
DESCRIPTION:ROĐEN: 1937. GODINE
URL:https://cistoca-dugaresa.hr/event/stjepan-belavic/
LOCATION:Ukop na groblju Sv. Petar u Dugoj Resi\, Duga Resa\, Croatia (Local Name: Hrvatska)
CATEGORIES:Duga Resa - Sv. Petar
END:VEVENT
BEGIN:VEVENT
DTSTART;TZID=UTC:20240502T130000
DTEND;TZID=UTC:20240531T130000
DTSTAMP:20260425T174616
CREATED:20240430T114136Z
LAST-MODIFIED:20240430T114136Z
UID:4125-1714654800-1717160400@cistoca-dugaresa.hr
SUMMARY:LJUBICA ŠIMIĆ rođ.Povž
DESCRIPTION:ROĐENA: 1953. GODINE
URL:https://cistoca-dugaresa.hr/event/ljubica-simic-rod-povz/
LOCATION:Ukop na groblju Sv. Petar u Dugoj Resi\, Duga Resa\, Croatia (Local Name: Hrvatska)
CATEGORIES:Duga Resa - Sv. Petar
END:VEVENT
BEGIN:VEVENT
DTSTART;TZID=UTC:20240502T133000
DTEND;TZID=UTC:20240531T133000
DTSTAMP:20260425T174616
CREATED:20240430T114302Z
LAST-MODIFIED:20240430T114302Z
UID:4127-1714656600-1717162200@cistoca-dugaresa.hr
SUMMARY:MARA GRGURIĆ rođ.Polović
DESCRIPTION:ROĐENA: 1926. GODINE
URL:https://cistoca-dugaresa.hr/event/mara-grguric-rod-polovic/
LOCATION:Ukop na groblju Sv. Petar u Dugoj Resi\, Duga Resa\, Croatia (Local Name: Hrvatska)
CATEGORIES:Duga Resa - Sv. Petar
END:VEVENT
BEGIN:VEVENT
DTSTART;TZID=UTC:20240506T130000
DTEND;TZID=UTC:20240531T130000
DTSTAMP:20260425T174616
CREATED:20240506T074441Z
LAST-MODIFIED:20240506T074441Z
UID:4131-1715000400-1717160400@cistoca-dugaresa.hr
SUMMARY:DRAGICA ŠPEČIĆ rođ. Tutek
DESCRIPTION:ROĐENA: 1933. GODINE
URL:https://cistoca-dugaresa.hr/event/dragica-specic-rod-tutek/
LOCATION:Ukop na groblju Sv. Petar u Dugoj Resi\, Duga Resa\, Croatia (Local Name: Hrvatska)
CATEGORIES:Duga Resa - Sv. Petar
END:VEVENT
BEGIN:VEVENT
DTSTART;TZID=UTC:20240513T140000
DTEND;TZID=UTC:20240531T140000
DTSTAMP:20260425T174616
CREATED:20240513T054118Z
LAST-MODIFIED:20240513T054118Z
UID:4136-1715608800-1717164000@cistoca-dugaresa.hr
SUMMARY:KATA BOSILJEVAC rođ.Trbuščić
DESCRIPTION:ROĐENA: 1944. GODINE
URL:https://cistoca-dugaresa.hr/event/kata-bosiljevac-rod-trbuscic/
LOCATION:Ukop na groblju Sv. Petar u Dugoj Resi\, Duga Resa\, Croatia (Local Name: Hrvatska)
CATEGORIES:Duga Resa - Sv. Petar
END:VEVENT
BEGIN:VEVENT
DTSTART;TZID=UTC:20240518T130000
DTEND;TZID=UTC:20240531T130000
DTSTAMP:20260425T174616
CREATED:20240516T123344Z
LAST-MODIFIED:20240516T123344Z
UID:4138-1716037200-1717160400@cistoca-dugaresa.hr
SUMMARY:KRISTINA ERDELJAC rođ.Katić
DESCRIPTION:ROĐENA:  1961. GODINE
URL:https://cistoca-dugaresa.hr/event/kristina-erdeljac-rod-katic/
LOCATION:Ukop na groblju Sv. Petar u Dugoj Resi\, Duga Resa\, Croatia (Local Name: Hrvatska)
CATEGORIES:Duga Resa - Sv. Petar
END:VEVENT
BEGIN:VEVENT
DTSTART;TZID=UTC:20240520T130000
DTEND;TZID=UTC:20240531T130000
DTSTAMP:20260425T174616
CREATED:20240520T054519Z
LAST-MODIFIED:20240520T054519Z
UID:4140-1716210000-1717160400@cistoca-dugaresa.hr
SUMMARY:VLADIMIR JANUS
DESCRIPTION:ROĐEN: 1958. GODINE
URL:https://cistoca-dugaresa.hr/event/vladimir-janus/
LOCATION:Ukop na groblju Sv. Petar u Dugoj Resi\, Duga Resa\, Croatia (Local Name: Hrvatska)
CATEGORIES:Duga Resa - Sv. Petar
END:VEVENT
BEGIN:VEVENT
DTSTART;TZID=UTC:20240521T130000
DTEND;TZID=UTC:20240531T130000
DTSTAMP:20260425T174616
CREATED:20240520T124434Z
LAST-MODIFIED:20240520T124434Z
UID:4148-1716296400-1717160400@cistoca-dugaresa.hr
SUMMARY:IVAN NOVOSEL
DESCRIPTION:ROĐEN: 1966. GODINE
URL:https://cistoca-dugaresa.hr/event/ivan-novosel/
LOCATION:Ukop na groblju Sv. Petar u Dugoj Resi\, Duga Resa\, Croatia (Local Name: Hrvatska)
CATEGORIES:Duga Resa - Sv. Petar
END:VEVENT
BEGIN:VEVENT
DTSTART;TZID=UTC:20240522T130000
DTEND;TZID=UTC:20240531T130000
DTSTAMP:20260425T174616
CREATED:20240520T124621Z
LAST-MODIFIED:20240520T124717Z
UID:4150-1716382800-1717160400@cistoca-dugaresa.hr
SUMMARY:MARIJA VUGLEŠIĆ rođ. Sušanj
DESCRIPTION:ROĐENA: 1938. GODINE
URL:https://cistoca-dugaresa.hr/event/marija-vugledic-rod-susanj/
LOCATION:Ukop na groblju Sv. Petar u Dugoj Resi\, Duga Resa\, Croatia (Local Name: Hrvatska)
CATEGORIES:Duga Resa - Sv. Petar
END:VEVENT
BEGIN:VEVENT
DTSTART;TZID=UTC:20240524T130000
DTEND;TZID=UTC:20240531T130000
DTSTAMP:20260425T174616
CREATED:20240523T111229Z
LAST-MODIFIED:20240523T111229Z
UID:4159-1716555600-1717160400@cistoca-dugaresa.hr
SUMMARY:ZVONKO ČATURIĆ
DESCRIPTION:ROĐEN: 1949. GODINE
URL:https://cistoca-dugaresa.hr/event/zvonko-caturic/
LOCATION:Ukop na groblju Sv. Petar u Dugoj Resi\, Duga Resa\, Croatia (Local Name: Hrvatska)
CATEGORIES:Duga Resa - Sv. Petar
END:VEVENT
END:VCALENDAR