BEGIN:VCALENDAR
VERSION:2.0
PRODID:-//Čistoća Duga Resa - ECPv5.14.0.1//NONSGML v1.0//EN
CALSCALE:GREGORIAN
METHOD:PUBLISH
X-WR-CALNAME:Čistoća Duga Resa
X-ORIGINAL-URL:https://cistoca-dugaresa.hr
X-WR-CALDESC:Events for Čistoća Duga Resa
REFRESH-INTERVAL;VALUE=DURATION:PT1H
X-Robots-Tag:noindex
X-PUBLISHED-TTL:PT1H
BEGIN:VTIMEZONE
TZID:UTC
BEGIN:STANDARD
TZOFFSETFROM:+0000
TZOFFSETTO:+0000
TZNAME:UTC
DTSTART:20240101T000000
END:STANDARD
END:VTIMEZONE
BEGIN:VEVENT
DTSTART;TZID=UTC:20240603T130000
DTEND;TZID=UTC:20240630T130000
DTSTAMP:20260425T162623
CREATED:20240603T072034Z
LAST-MODIFIED:20240603T072034Z
UID:4176-1717419600-1719752400@cistoca-dugaresa.hr
SUMMARY:DRAGO MRŽLJAK
DESCRIPTION:ROĐEN: 1941. GODINE
URL:https://cistoca-dugaresa.hr/event/drago-mrzljak/
LOCATION:Ukop na groblju Sv. Petar u Dugoj Resi\, Duga Resa\, Croatia (Local Name: Hrvatska)
CATEGORIES:Duga Resa - Sv. Petar
END:VEVENT
BEGIN:VEVENT
DTSTART;TZID=UTC:20240605T150000
DTEND;TZID=UTC:20240630T150000
DTSTAMP:20260425T162623
CREATED:20240604T090449Z
LAST-MODIFIED:20240604T090449Z
UID:4182-1717599600-1719759600@cistoca-dugaresa.hr
SUMMARY:JOSIP RELJAC
DESCRIPTION:ROĐEN: 1925. GODINE
URL:https://cistoca-dugaresa.hr/event/josip-reljac/
LOCATION:Ukop na groblju Sv. Petar u Dugoj Resi\, Duga Resa\, Croatia (Local Name: Hrvatska)
CATEGORIES:Duga Resa - Sv. Petar
END:VEVENT
BEGIN:VEVENT
DTSTART;TZID=UTC:20240611T150000
DTEND;TZID=UTC:20240630T150000
DTSTAMP:20260425T162623
CREATED:20240610T054301Z
LAST-MODIFIED:20240610T054301Z
UID:4185-1718118000-1719759600@cistoca-dugaresa.hr
SUMMARY:MARIJA CVITKOVIĆ rođ.Viali
DESCRIPTION:ROĐENA: 1933. GODINE
URL:https://cistoca-dugaresa.hr/event/marija-cvitkovic-rod-viali/
LOCATION:Ukop na groblju Sv. Petar u Dugoj Resi\, Duga Resa\, Croatia (Local Name: Hrvatska)
CATEGORIES:Duga Resa - Sv. Petar
END:VEVENT
BEGIN:VEVENT
DTSTART;TZID=UTC:20240617T130000
DTEND;TZID=UTC:20240630T130000
DTSTAMP:20260425T162623
CREATED:20240615T092354Z
LAST-MODIFIED:20240615T092354Z
UID:4188-1718629200-1719752400@cistoca-dugaresa.hr
SUMMARY:NEDA DRAŠKOVIĆ rođ.Žirovčić
DESCRIPTION:ROĐENA: 1937. GODINE
URL:https://cistoca-dugaresa.hr/event/neda-draskovic-rod-zirovcic/
LOCATION:Ukop na groblju Sv. Petar u Dugoj Resi\, Duga Resa\, Croatia (Local Name: Hrvatska)
CATEGORIES:Duga Resa - Sv. Petar
END:VEVENT
BEGIN:VEVENT
DTSTART;TZID=UTC:20240625T130000
DTEND;TZID=UTC:20240630T130000
DTSTAMP:20260425T162623
CREATED:20240624T090109Z
LAST-MODIFIED:20240624T090109Z
UID:4191-1719320400-1719752400@cistoca-dugaresa.hr
SUMMARY:JOSIP ŠPUNDAK
DESCRIPTION:ROĐEN: 1943. GODINE
URL:https://cistoca-dugaresa.hr/event/josip-spundak/
LOCATION:Ukop na groblju Sv. Petar u Dugoj Resi\, Duga Resa\, Croatia (Local Name: Hrvatska)
CATEGORIES:Duga Resa - Sv. Petar
END:VEVENT
END:VCALENDAR