BEGIN:VCALENDAR
VERSION:2.0
PRODID:-//Čistoća Duga Resa - ECPv5.14.0.1//NONSGML v1.0//EN
CALSCALE:GREGORIAN
METHOD:PUBLISH
X-WR-CALNAME:Čistoća Duga Resa
X-ORIGINAL-URL:https://cistoca-dugaresa.hr
X-WR-CALDESC:Events for Čistoća Duga Resa
REFRESH-INTERVAL;VALUE=DURATION:PT1H
X-Robots-Tag:noindex
X-PUBLISHED-TTL:PT1H
BEGIN:VTIMEZONE
TZID:UTC
BEGIN:STANDARD
TZOFFSETFROM:+0000
TZOFFSETTO:+0000
TZNAME:UTC
DTSTART:20240101T000000
END:STANDARD
END:VTIMEZONE
BEGIN:VEVENT
DTSTART;TZID=UTC:20240701T130000
DTEND;TZID=UTC:20240731T130000
DTSTAMP:20260425T162845
CREATED:20240628T110801Z
LAST-MODIFIED:20240628T110801Z
UID:4193-1719838800-1722430800@cistoca-dugaresa.hr
SUMMARY:ZVONIMIR GALETIĆ
DESCRIPTION:ROĐEN: 1951. GODINE
URL:https://cistoca-dugaresa.hr/event/zvonimir-galetic/
LOCATION:Ukop na groblju Sv. Petar u Dugoj Resi\, Duga Resa\, Croatia (Local Name: Hrvatska)
CATEGORIES:Duga Resa - Sv. Petar
END:VEVENT
BEGIN:VEVENT
DTSTART;TZID=UTC:20240702T130000
DTEND;TZID=UTC:20240731T130000
DTSTAMP:20260425T162845
CREATED:20240701T073636Z
LAST-MODIFIED:20240701T073636Z
UID:4195-1719925200-1722430800@cistoca-dugaresa.hr
SUMMARY:SLAVICA BREZOVIĆ rođ. Grčić
DESCRIPTION:ROĐENA: 1932. GODINE
URL:https://cistoca-dugaresa.hr/event/slavica-brezovic-rod-grcic/
LOCATION:Ukop na groblju Sv. Petar u Dugoj Resi\, Duga Resa\, Croatia (Local Name: Hrvatska)
CATEGORIES:Duga Resa - Sv. Petar
END:VEVENT
BEGIN:VEVENT
DTSTART;TZID=UTC:20240703T130000
DTEND;TZID=UTC:20240731T130000
DTSTAMP:20260425T162845
CREATED:20240703T040700Z
LAST-MODIFIED:20240703T040700Z
UID:4198-1720011600-1722430800@cistoca-dugaresa.hr
SUMMARY:ANA MARČAC
DESCRIPTION:ROĐENA: 1939. GODINE
URL:https://cistoca-dugaresa.hr/event/ana-marcac/
LOCATION:Ukop na groblju Sv. Petar u Dugoj Resi\, Duga Resa\, Croatia (Local Name: Hrvatska)
CATEGORIES:Duga Resa - Sv. Petar
END:VEVENT
BEGIN:VEVENT
DTSTART;TZID=UTC:20240708T130000
DTEND;TZID=UTC:20240731T130000
DTSTAMP:20260425T162845
CREATED:20240705T104940Z
LAST-MODIFIED:20240705T104940Z
UID:4200-1720443600-1722430800@cistoca-dugaresa.hr
SUMMARY:MARA CVITOVAC rođ. Graho
DESCRIPTION:ROĐENA: 1932. GODINE
URL:https://cistoca-dugaresa.hr/event/mara-cvitovac-rod-graho/
LOCATION:Ukop na groblju Sv. Petar u Dugoj Resi\, Duga Resa\, Croatia (Local Name: Hrvatska)
CATEGORIES:Duga Resa - Sv. Petar
END:VEVENT
BEGIN:VEVENT
DTSTART;TZID=UTC:20240711T130000
DTEND;TZID=UTC:20240731T130000
DTSTAMP:20260425T162845
CREATED:20240710T091509Z
LAST-MODIFIED:20240710T091509Z
UID:4204-1720702800-1722430800@cistoca-dugaresa.hr
SUMMARY:KATA PERUŠIĆ rođ-Mlikan
DESCRIPTION:ROĐENA: 1933. GODINE
URL:https://cistoca-dugaresa.hr/event/kata-perusic-rod-mlikan/
LOCATION:Ukop na groblju Sv. Petar u Dugoj Resi\, Duga Resa\, Croatia (Local Name: Hrvatska)
CATEGORIES:Duga Resa - Sv. Petar
END:VEVENT
BEGIN:VEVENT
DTSTART;TZID=UTC:20240715T130000
DTEND;TZID=UTC:20240731T130000
DTSTAMP:20260425T162845
CREATED:20240713T060145Z
LAST-MODIFIED:20240713T060145Z
UID:4206-1721048400-1722430800@cistoca-dugaresa.hr
SUMMARY:VJENCESLAV BOSILJEVAC
DESCRIPTION:ROĐEN: 1938. GODINE
URL:https://cistoca-dugaresa.hr/event/vjenceslav-bosiljevac/
LOCATION:Ukop na groblju Sv. Petar u Dugoj Resi\, Duga Resa\, Croatia (Local Name: Hrvatska)
CATEGORIES:Duga Resa - Sv. Petar
END:VEVENT
BEGIN:VEVENT
DTSTART;TZID=UTC:20240715T133000
DTEND;TZID=UTC:20240731T133000
DTSTAMP:20260425T162845
CREATED:20240715T072020Z
LAST-MODIFIED:20240715T072020Z
UID:4210-1721050200-1722432600@cistoca-dugaresa.hr
SUMMARY:PETAR CAR
DESCRIPTION:ROĐEN: 1939. GODINE
URL:https://cistoca-dugaresa.hr/event/petar-car/
LOCATION:Ukop na groblju Sv. Petar u Dugoj Resi\, Duga Resa\, Croatia (Local Name: Hrvatska)
CATEGORIES:Duga Resa - Sv. Petar
END:VEVENT
BEGIN:VEVENT
DTSTART;TZID=UTC:20240716T130000
DTEND;TZID=UTC:20240731T130000
DTSTAMP:20260425T162845
CREATED:20240715T112635Z
LAST-MODIFIED:20240715T112635Z
UID:4216-1721134800-1722430800@cistoca-dugaresa.hr
SUMMARY:EMIL MATEŠIĆ
DESCRIPTION:ROĐEN: 1958. GODINE
URL:https://cistoca-dugaresa.hr/event/emil-matesic/
LOCATION:Ukop na groblju Sv. Petar u Dugoj Resi\, Duga Resa\, Croatia (Local Name: Hrvatska)
CATEGORIES:Duga Resa - Sv. Petar
END:VEVENT
BEGIN:VEVENT
DTSTART;TZID=UTC:20240717T120000
DTEND;TZID=UTC:20240731T120000
DTSTAMP:20260425T162845
CREATED:20240716T074258Z
LAST-MODIFIED:20240716T074258Z
UID:4218-1721217600-1722427200@cistoca-dugaresa.hr
SUMMARY:MARICA MATEŠA
DESCRIPTION:ROĐENA: 1954. GODINE
URL:https://cistoca-dugaresa.hr/event/marica-matesa/
LOCATION:Ukop na groblju Sv. Petar u Dugoj Resi\, Duga Resa\, Croatia (Local Name: Hrvatska)
CATEGORIES:Duga Resa - Sv. Petar
END:VEVENT
BEGIN:VEVENT
DTSTART;TZID=UTC:20240717T123000
DTEND;TZID=UTC:20240731T123000
DTSTAMP:20260425T162845
CREATED:20240716T074410Z
LAST-MODIFIED:20240716T074410Z
UID:4220-1721219400-1722429000@cistoca-dugaresa.hr
SUMMARY:JOSIP MIHALJEVIĆ
DESCRIPTION:ROĐEN: 1945. GODINE
URL:https://cistoca-dugaresa.hr/event/josip-mihaljevic/
LOCATION:Ukop na groblju Sv. Petar u Dugoj Resi\, Duga Resa\, Croatia (Local Name: Hrvatska)
CATEGORIES:Duga Resa - Sv. Petar
END:VEVENT
BEGIN:VEVENT
DTSTART;TZID=UTC:20240719T100000
DTEND;TZID=UTC:20240731T100000
DTSTAMP:20260425T162845
CREATED:20240719T064925Z
LAST-MODIFIED:20240719T064925Z
UID:4223-1721383200-1722420000@cistoca-dugaresa.hr
SUMMARY:BOGDANA MARTINOVIĆ rođ.Vrcelj
DESCRIPTION:ROĐENA: 1955. GODINE
URL:https://cistoca-dugaresa.hr/event/bogdana-martinovic-rod-vrcelj/
LOCATION:Ukop na groblju Sv. Petar u Dugoj Resi\, Duga Resa\, Croatia (Local Name: Hrvatska)
CATEGORIES:Duga Resa - Sv. Petar
END:VEVENT
END:VCALENDAR