BEGIN:VCALENDAR
VERSION:2.0
PRODID:-//Čistoća Duga Resa - ECPv5.14.0.1//NONSGML v1.0//EN
CALSCALE:GREGORIAN
METHOD:PUBLISH
X-WR-CALNAME:Čistoća Duga Resa
X-ORIGINAL-URL:https://cistoca-dugaresa.hr
X-WR-CALDESC:Events for Čistoća Duga Resa
REFRESH-INTERVAL;VALUE=DURATION:PT1H
X-Robots-Tag:noindex
X-PUBLISHED-TTL:PT1H
BEGIN:VTIMEZONE
TZID:UTC
BEGIN:STANDARD
TZOFFSETFROM:+0000
TZOFFSETTO:+0000
TZNAME:UTC
DTSTART:20240101T000000
END:STANDARD
END:VTIMEZONE
BEGIN:VEVENT
DTSTART;TZID=UTC:20241202T130000
DTEND;TZID=UTC:20241231T130000
DTSTAMP:20260425T061501
CREATED:20241202T070013Z
LAST-MODIFIED:20241202T070013Z
UID:4455-1733144400-1735650000@cistoca-dugaresa.hr
SUMMARY:FERDO MARN
DESCRIPTION:ROĐEN: 1948. GODINE
URL:https://cistoca-dugaresa.hr/event/ferdo-marn/
LOCATION:Ukop na groblju Sv. Petar u Dugoj Resi\, Duga Resa\, Croatia (Local Name: Hrvatska)
CATEGORIES:Duga Resa - Sv. Petar
END:VEVENT
BEGIN:VEVENT
DTSTART;TZID=UTC:20241204T130000
DTEND;TZID=UTC:20241231T130000
DTSTAMP:20260425T061501
CREATED:20241204T071344Z
LAST-MODIFIED:20241204T071344Z
UID:4457-1733317200-1735650000@cistoca-dugaresa.hr
SUMMARY:IVAN GALOVIĆ
DESCRIPTION:ROĐEN:1937. GODINE
URL:https://cistoca-dugaresa.hr/event/ivan-galovic/
LOCATION:Ukop na groblju Sv. Petar u Dugoj Resi\, Duga Resa\, Croatia (Local Name: Hrvatska)
CATEGORIES:Duga Resa - Sv. Petar
END:VEVENT
BEGIN:VEVENT
DTSTART;TZID=UTC:20241206T140000
DTEND;TZID=UTC:20241231T140000
DTSTAMP:20260425T061501
CREATED:20241205T103826Z
LAST-MODIFIED:20241205T103826Z
UID:4459-1733493600-1735653600@cistoca-dugaresa.hr
SUMMARY:ŽELJKO ŽANIĆ
DESCRIPTION:ROĐEN: 1954. GODINE
URL:https://cistoca-dugaresa.hr/event/zeljko-zanic/
LOCATION:Ukop na groblju Sv. Petar u Dugoj Resi\, Duga Resa\, Croatia (Local Name: Hrvatska)
CATEGORIES:Duga Resa - Sv. Petar
END:VEVENT
BEGIN:VEVENT
DTSTART;TZID=UTC:20241210T130000
DTEND;TZID=UTC:20241231T130000
DTSTAMP:20260425T061501
CREATED:20241209T121713Z
LAST-MODIFIED:20241209T121713Z
UID:4464-1733835600-1735650000@cistoca-dugaresa.hr
SUMMARY:BRANKO LUKIĆ
DESCRIPTION:ROĐEN: 1940. GODINE
URL:https://cistoca-dugaresa.hr/event/branko-lukic/
LOCATION:Ukop na groblju Sv. Petar u Dugoj Resi\, Duga Resa\, Croatia (Local Name: Hrvatska)
CATEGORIES:Duga Resa - Sv. Petar
END:VEVENT
BEGIN:VEVENT
DTSTART;TZID=UTC:20241212T143000
DTEND;TZID=UTC:20241231T143000
DTSTAMP:20260425T061501
CREATED:20241210T134027Z
LAST-MODIFIED:20241210T134027Z
UID:4466-1734013800-1735655400@cistoca-dugaresa.hr
SUMMARY:TOMISLAV PERUŠIĆ
DESCRIPTION:ROĐEN: 1954. GODINE
URL:https://cistoca-dugaresa.hr/event/tomislav-perusic/
LOCATION:Ukop na groblju Sv. Petar u Dugoj Resi\, Duga Resa\, Croatia (Local Name: Hrvatska)
CATEGORIES:Duga Resa - Sv. Petar
END:VEVENT
BEGIN:VEVENT
DTSTART;TZID=UTC:20241213T140000
DTEND;TZID=UTC:20241231T140000
DTSTAMP:20260425T061501
CREATED:20241211T105725Z
LAST-MODIFIED:20241211T105725Z
UID:4468-1734098400-1735653600@cistoca-dugaresa.hr
SUMMARY:MARIJA PAPA rođ. Špehar
DESCRIPTION:ROĐENA: 1938. GODINE
URL:https://cistoca-dugaresa.hr/event/marija-papa-rod-spehar/
LOCATION:Ukop na groblju Sv. Petar u Dugoj Resi\, Duga Resa\, Croatia (Local Name: Hrvatska)
CATEGORIES:Duga Resa - Sv. Petar
END:VEVENT
BEGIN:VEVENT
DTSTART;TZID=UTC:20241219T130000
DTEND;TZID=UTC:20241231T130000
DTSTAMP:20260425T061501
CREATED:20241218T090607Z
LAST-MODIFIED:20241218T090607Z
UID:4471-1734613200-1735650000@cistoca-dugaresa.hr
SUMMARY:KATA SESTRIĆ rođ.Lorković
DESCRIPTION:ROĐENA: 1932. GODINE
URL:https://cistoca-dugaresa.hr/event/kata-sestric-rod-lorkovic/
LOCATION:Ukop na groblju Sv. Petar u Dugoj Resi\, Duga Resa\, Croatia (Local Name: Hrvatska)
CATEGORIES:Duga Resa - Sv. Petar
END:VEVENT
BEGIN:VEVENT
DTSTART;TZID=UTC:20241220T130000
DTEND;TZID=UTC:20250103T130000
DTSTAMP:20260425T061501
CREATED:20241219T102247Z
LAST-MODIFIED:20241219T102247Z
UID:4477-1734699600-1735909200@cistoca-dugaresa.hr
SUMMARY:ŽELJKO MEJAŠKI
DESCRIPTION:ROĐEN: 1952. GODINE
URL:https://cistoca-dugaresa.hr/event/zeljko-mejaski/
LOCATION:Ukop na groblju Sv. Petar u Dugoj Resi\, Duga Resa\, Croatia (Local Name: Hrvatska)
CATEGORIES:Duga Resa - Sv. Petar
END:VEVENT
BEGIN:VEVENT
DTSTART;TZID=UTC:20241221T110000
DTEND;TZID=UTC:20241231T110000
DTSTAMP:20260425T061501
CREATED:20241220T112514Z
LAST-MODIFIED:20241220T112514Z
UID:4479-1734778800-1735642800@cistoca-dugaresa.hr
SUMMARY:STJEPAN ARBUTINA
DESCRIPTION:ROĐEN: 1931. GODINE
URL:https://cistoca-dugaresa.hr/event/stjepan-arbutina/
LOCATION:Ukop na groblju Sv. Petar u Dugoj Resi\, Duga Resa\, Croatia (Local Name: Hrvatska)
CATEGORIES:Duga Resa - Sv. Petar
END:VEVENT
BEGIN:VEVENT
DTSTART;TZID=UTC:20241224T120000
DTEND;TZID=UTC:20241231T120000
DTSTAMP:20260425T061501
CREATED:20241223T114224Z
LAST-MODIFIED:20241223T114224Z
UID:4481-1735041600-1735646400@cistoca-dugaresa.hr
SUMMARY:ŠTEFICA POLOVIĆ rođ. Filipić
DESCRIPTION:ROĐENA: 1951. GODINE
URL:https://cistoca-dugaresa.hr/event/stefica-polovic-rod-filipic/
LOCATION:Ukop na groblju Sv. Petar u Dugoj Resi\, Duga Resa\, Croatia (Local Name: Hrvatska)
CATEGORIES:Duga Resa - Sv. Petar
END:VEVENT
BEGIN:VEVENT
DTSTART;TZID=UTC:20241230T130000
DTEND;TZID=UTC:20241231T130000
DTSTAMP:20260425T061501
CREATED:20241230T100741Z
LAST-MODIFIED:20241230T100741Z
UID:4484-1735563600-1735650000@cistoca-dugaresa.hr
SUMMARY:MILJENKO MATEŠIĆ
DESCRIPTION:ROĐEN: 1936. GODINE
URL:https://cistoca-dugaresa.hr/event/miljenko-matesic/
LOCATION:Ukop na groblju Sv. Petar u Dugoj Resi\, Duga Resa\, Croatia (Local Name: Hrvatska)
CATEGORIES:Duga Resa - Sv. Petar
END:VEVENT
BEGIN:VEVENT
DTSTART;TZID=UTC:20241231T130000
DTEND;TZID=UTC:20241231T130000
DTSTAMP:20260425T061501
CREATED:20241230T100920Z
LAST-MODIFIED:20241230T100920Z
UID:4486-1735650000-1735650000@cistoca-dugaresa.hr
SUMMARY:MARICA PILAKOVIĆ rođ.Furač
DESCRIPTION:ROĐENA: 1957. GODINE
URL:https://cistoca-dugaresa.hr/event/marica-pilakovic-rod-furac/
LOCATION:Ukop na groblju Sv. Petar u Dugoj Resi\, Duga Resa\, Croatia (Local Name: Hrvatska)
CATEGORIES:Duga Resa - Sv. Petar
END:VEVENT
BEGIN:VEVENT
DTSTART;TZID=UTC:20241231T133000
DTEND;TZID=UTC:20241231T133000
DTSTAMP:20260425T061501
CREATED:20241230T101024Z
LAST-MODIFIED:20241230T101024Z
UID:4488-1735651800-1735651800@cistoca-dugaresa.hr
SUMMARY:DRAŽEN BELOBRAJDIĆ
DESCRIPTION:ROĐEN: 1964. GODINE
URL:https://cistoca-dugaresa.hr/event/drazen-belobrajdic/
LOCATION:Ukop na groblju Sv. Petar u Dugoj Resi\, Duga Resa\, Croatia (Local Name: Hrvatska)
CATEGORIES:Duga Resa - Sv. Petar
END:VEVENT
END:VCALENDAR