BEGIN:VCALENDAR
VERSION:2.0
PRODID:-//Čistoća Duga Resa - ECPv5.14.0.1//NONSGML v1.0//EN
CALSCALE:GREGORIAN
METHOD:PUBLISH
X-WR-CALNAME:Čistoća Duga Resa
X-ORIGINAL-URL:https://cistoca-dugaresa.hr
X-WR-CALDESC:Events for Čistoća Duga Resa
REFRESH-INTERVAL;VALUE=DURATION:PT1H
X-Robots-Tag:noindex
X-PUBLISHED-TTL:PT1H
BEGIN:VTIMEZONE
TZID:UTC
BEGIN:STANDARD
TZOFFSETFROM:+0000
TZOFFSETTO:+0000
TZNAME:UTC
DTSTART:20250101T000000
END:STANDARD
END:VTIMEZONE
BEGIN:VEVENT
DTSTART;TZID=UTC:20250203T130000
DTEND;TZID=UTC:20250217T130000
DTSTAMP:20260425T044726
CREATED:20250203T063611Z
LAST-MODIFIED:20250203T063611Z
UID:4517-1738587600-1739797200@cistoca-dugaresa.hr
SUMMARY:RUŽA MAGLIČIĆ  rođ. Grgurić
DESCRIPTION:ROĐENA: 1933. GODINE
URL:https://cistoca-dugaresa.hr/event/ruza-maglicic-rod-grguric/
LOCATION:Ukop na groblju Sv. Petar u Dugoj Resi\, Duga Resa\, Croatia (Local Name: Hrvatska)
CATEGORIES:Duga Resa - Sv. Petar
END:VEVENT
BEGIN:VEVENT
DTSTART;TZID=UTC:20250205T130000
DTEND;TZID=UTC:20250219T130000
DTSTAMP:20260425T044726
CREATED:20250131T071924Z
LAST-MODIFIED:20250131T071924Z
UID:4515-1738760400-1739970000@cistoca-dugaresa.hr
SUMMARY:MARIJA POTOČNJAK rođ. Požar
DESCRIPTION:ROĐENA: 1951. GODINE
URL:https://cistoca-dugaresa.hr/event/marija-potocnjak-rod-pozar/
LOCATION:Ukop na groblju Sv. Petar u Dugoj Resi\, Duga Resa\, Croatia (Local Name: Hrvatska)
CATEGORIES:Duga Resa - Sv. Petar
END:VEVENT
BEGIN:VEVENT
DTSTART;TZID=UTC:20250205T133000
DTEND;TZID=UTC:20250219T133000
DTSTAMP:20260425T044726
CREATED:20250204T084525Z
LAST-MODIFIED:20250204T084525Z
UID:4520-1738762200-1739971800@cistoca-dugaresa.hr
SUMMARY:ANA POLOVIĆ rođ. Brezović
DESCRIPTION:ROĐENA: 1935. GODINE
URL:https://cistoca-dugaresa.hr/event/ana-polovic-rod-brezovic/
LOCATION:Ukop na groblju Sv. Petar u Dugoj Resi\, Duga Resa\, Croatia (Local Name: Hrvatska)
CATEGORIES:Duga Resa - Sv. Petar
END:VEVENT
END:VCALENDAR