BEGIN:VCALENDAR
VERSION:2.0
PRODID:-//Čistoća Duga Resa - ECPv5.14.0.1//NONSGML v1.0//EN
CALSCALE:GREGORIAN
METHOD:PUBLISH
X-WR-CALNAME:Čistoća Duga Resa
X-ORIGINAL-URL:https://cistoca-dugaresa.hr
X-WR-CALDESC:Events for Čistoća Duga Resa
REFRESH-INTERVAL;VALUE=DURATION:PT1H
X-Robots-Tag:noindex
X-PUBLISHED-TTL:PT1H
BEGIN:VTIMEZONE
TZID:UTC
BEGIN:STANDARD
TZOFFSETFROM:+0000
TZOFFSETTO:+0000
TZNAME:UTC
DTSTART:20250101T000000
END:STANDARD
END:VTIMEZONE
BEGIN:VEVENT
DTSTART;TZID=UTC:20250404T110000
DTEND;TZID=UTC:20250430T110000
DTSTAMP:20260425T032515
CREATED:20250404T080439Z
LAST-MODIFIED:20250404T080439Z
UID:4588-1743764400-1746010800@cistoca-dugaresa.hr
SUMMARY:RUŽICA ČULIG
DESCRIPTION:ROĐENA: 1939.GODINE
URL:https://cistoca-dugaresa.hr/event/ruzica-culig/
LOCATION:Ukop na groblju Sv. Petar u Dugoj Resi\, Duga Resa\, Croatia (Local Name: Hrvatska)
CATEGORIES:Duga Resa - Sv. Petar
END:VEVENT
BEGIN:VEVENT
DTSTART;TZID=UTC:20250411T130000
DTEND;TZID=UTC:20250430T130000
DTSTAMP:20260425T032515
CREATED:20250409T085230Z
LAST-MODIFIED:20250409T085230Z
UID:4590-1744376400-1746018000@cistoca-dugaresa.hr
SUMMARY:IVAN BROZOVIĆ - IKA
DESCRIPTION:ROĐEN: 1948. GODINE
URL:https://cistoca-dugaresa.hr/event/ivan-brozovic-ika/
LOCATION:Ukop na groblju Sv. Petar u Dugoj Resi\, Duga Resa\, Croatia (Local Name: Hrvatska)
CATEGORIES:Duga Resa - Sv. Petar
END:VEVENT
BEGIN:VEVENT
DTSTART;TZID=UTC:20250414T130000
DTEND;TZID=UTC:20250430T130000
DTSTAMP:20260425T032515
CREATED:20250411T083309Z
LAST-MODIFIED:20250411T083309Z
UID:4593-1744635600-1746018000@cistoca-dugaresa.hr
SUMMARY:IVAN STAREŠINIĆ
DESCRIPTION:ROĐEN: 1962. GODINE
URL:https://cistoca-dugaresa.hr/event/ivan-staresinic/
LOCATION:Ukop na groblju Sv. Petar u Dugoj Resi\, Duga Resa\, Croatia (Local Name: Hrvatska)
CATEGORIES:Duga Resa - Sv. Petar
END:VEVENT
BEGIN:VEVENT
DTSTART;TZID=UTC:20250415T130000
DTEND;TZID=UTC:20250430T130000
DTSTAMP:20260425T032515
CREATED:20250414T092645Z
LAST-MODIFIED:20250414T092645Z
UID:4595-1744722000-1746018000@cistoca-dugaresa.hr
SUMMARY:STJEPAN KLOKOČKI
DESCRIPTION:ROĐEN: 1954. GODINE
URL:https://cistoca-dugaresa.hr/event/stjepan-klokocki/
LOCATION:Ukop na groblju Sv. Petar u Dugoj Resi\, Duga Resa\, Croatia (Local Name: Hrvatska)
CATEGORIES:Duga Resa - Sv. Petar
END:VEVENT
BEGIN:VEVENT
DTSTART;TZID=UTC:20250417T110000
DTEND;TZID=UTC:20250430T110000
DTSTAMP:20260425T032515
CREATED:20250414T092956Z
LAST-MODIFIED:20250414T092956Z
UID:4597-1744887600-1746010800@cistoca-dugaresa.hr
SUMMARY:MARICA BAHLER rođ.Jurčević
DESCRIPTION:ROĐENA: 1948. GODINE \nPOLAGANJE URNE
URL:https://cistoca-dugaresa.hr/event/marica-bahler-rod-jurcevic/
LOCATION:Ukop na groblju Sv. Petar u Dugoj Resi\, Duga Resa\, Croatia (Local Name: Hrvatska)
CATEGORIES:Duga Resa - Sv. Petar
END:VEVENT
END:VCALENDAR