BEGIN:VCALENDAR
VERSION:2.0
PRODID:-//Čistoća Duga Resa - ECPv5.14.0.1//NONSGML v1.0//EN
CALSCALE:GREGORIAN
METHOD:PUBLISH
X-WR-CALNAME:Čistoća Duga Resa
X-ORIGINAL-URL:https://cistoca-dugaresa.hr
X-WR-CALDESC:Events for Čistoća Duga Resa
REFRESH-INTERVAL;VALUE=DURATION:PT1H
X-Robots-Tag:noindex
X-PUBLISHED-TTL:PT1H
BEGIN:VTIMEZONE
TZID:UTC
BEGIN:STANDARD
TZOFFSETFROM:+0000
TZOFFSETTO:+0000
TZNAME:UTC
DTSTART:20250101T000000
END:STANDARD
END:VTIMEZONE
BEGIN:VEVENT
DTSTART;TZID=UTC:20250505T120000
DTEND;TZID=UTC:20250531T120000
DTSTAMP:20260425T002423
CREATED:20250502T122427Z
LAST-MODIFIED:20250502T122427Z
UID:4619-1746446400-1748692800@cistoca-dugaresa.hr
SUMMARY:ŠTEFANIJA ŠTROBER rođ.Perković
DESCRIPTION:ROĐENA: 1935. GODINE
URL:https://cistoca-dugaresa.hr/event/stefanija-strober-rod-perkovic/
LOCATION:Ukop na groblju Sv. Petar u Dugoj Resi\, Duga Resa\, Croatia (Local Name: Hrvatska)
CATEGORIES:Duga Resa - Sv. Petar
END:VEVENT
BEGIN:VEVENT
DTSTART;TZID=UTC:20250506T130000
DTEND;TZID=UTC:20250531T130000
DTSTAMP:20260425T002423
CREATED:20250505T122626Z
LAST-MODIFIED:20250505T122626Z
UID:4621-1746536400-1748696400@cistoca-dugaresa.hr
SUMMARY:PETAR ŠLAT
DESCRIPTION:ROĐEN: 1952. GODINE
URL:https://cistoca-dugaresa.hr/event/petar-slat/
LOCATION:Ukop na groblju Sv. Petar u Dugoj Resi\, Duga Resa\, Croatia (Local Name: Hrvatska)
CATEGORIES:Duga Resa - Sv. Petar
END:VEVENT
BEGIN:VEVENT
DTSTART;TZID=UTC:20250506T133000
DTEND;TZID=UTC:20250531T133000
DTSTAMP:20260425T002423
CREATED:20250505T122803Z
LAST-MODIFIED:20250505T122803Z
UID:4624-1746538200-1748698200@cistoca-dugaresa.hr
SUMMARY:DUBRAVKA PRUS rođ. Belavić
DESCRIPTION:ROĐENA: 1941. GODINE
URL:https://cistoca-dugaresa.hr/event/dubravka-prus-rod-belavic/
LOCATION:Ukop na groblju Sv. Petar u Dugoj Resi\, Duga Resa\, Croatia (Local Name: Hrvatska)
CATEGORIES:Duga Resa - Sv. Petar
END:VEVENT
BEGIN:VEVENT
DTSTART;TZID=UTC:20250507T160000
DTEND;TZID=UTC:20250531T160000
DTSTAMP:20260425T002423
CREATED:20250505T123001Z
LAST-MODIFIED:20250505T123001Z
UID:4627-1746633600-1748707200@cistoca-dugaresa.hr
SUMMARY:ANKICA LISIČIĆ rođ. Benić
DESCRIPTION:ROĐENA: 1957. GODINE
URL:https://cistoca-dugaresa.hr/event/ankica-lisicic-rod-benic/
LOCATION:Ukop na groblju Sv. Petar u Dugoj Resi\, Duga Resa\, Croatia (Local Name: Hrvatska)
CATEGORIES:Duga Resa - Sv. Petar
END:VEVENT
BEGIN:VEVENT
DTSTART;TZID=UTC:20250512T130000
DTEND;TZID=UTC:20250531T130000
DTSTAMP:20260425T002423
CREATED:20250508T051945Z
LAST-MODIFIED:20250508T051945Z
UID:4631-1747054800-1748696400@cistoca-dugaresa.hr
SUMMARY:NIKOLA KIRIN
DESCRIPTION:ROĐEN: 1958. GODINE
URL:https://cistoca-dugaresa.hr/event/nikola-kirin/
LOCATION:Ukop na groblju Sv. Petar u Dugoj Resi\, Duga Resa\, Croatia (Local Name: Hrvatska)
CATEGORIES:Duga Resa - Sv. Petar
END:VEVENT
BEGIN:VEVENT
DTSTART;TZID=UTC:20250519T130000
DTEND;TZID=UTC:20250531T130000
DTSTAMP:20260425T002423
CREATED:20250519T081058Z
LAST-MODIFIED:20250519T081058Z
UID:4634-1747659600-1748696400@cistoca-dugaresa.hr
SUMMARY:VLADO BELAVIĆ
DESCRIPTION:ROĐEN: 1938. GODINE
URL:https://cistoca-dugaresa.hr/event/vlado-belavic/
LOCATION:Ukop na groblju Sv. Petar u Dugoj Resi\, Duga Resa\, Croatia (Local Name: Hrvatska)
CATEGORIES:Duga Resa - Sv. Petar
END:VEVENT
BEGIN:VEVENT
DTSTART;TZID=UTC:20250520T130000
DTEND;TZID=UTC:20250531T130000
DTSTAMP:20260425T002423
CREATED:20250519T081254Z
LAST-MODIFIED:20250519T081254Z
UID:4636-1747746000-1748696400@cistoca-dugaresa.hr
SUMMARY:MARA MOVRE rođ. Štefanac
DESCRIPTION:ROĐENA: 1937. GODINE
URL:https://cistoca-dugaresa.hr/event/mara-movre-rod-stefanac/
LOCATION:Ukop na groblju Sv. Petar u Dugoj Resi\, Duga Resa\, Croatia (Local Name: Hrvatska)
CATEGORIES:Duga Resa - Sv. Petar
END:VEVENT
BEGIN:VEVENT
DTSTART;TZID=UTC:20250521T150000
DTEND;TZID=UTC:20250531T150000
DTSTAMP:20260425T002423
CREATED:20250520T075643Z
LAST-MODIFIED:20250520T075643Z
UID:4638-1747839600-1748703600@cistoca-dugaresa.hr
SUMMARY:ANA BIŠĆAN rođ.Žubčić
DESCRIPTION:ROĐENA: 1954. GODINE
URL:https://cistoca-dugaresa.hr/event/ana-biscan-rod-zubcic/
LOCATION:Ukop na groblju Sv. Petar u Dugoj Resi\, Duga Resa\, Croatia (Local Name: Hrvatska)
CATEGORIES:Duga Resa - Sv. Petar
END:VEVENT
BEGIN:VEVENT
DTSTART;TZID=UTC:20250523T133000
DTEND;TZID=UTC:20250531T133000
DTSTAMP:20260425T002423
CREATED:20250522T091530Z
LAST-MODIFIED:20250522T091530Z
UID:4649-1748007000-1748698200@cistoca-dugaresa.hr
SUMMARY:BARKA BARŠIĆ rođ. Matešić
DESCRIPTION:ROĐENA: 1940. GODINE
URL:https://cistoca-dugaresa.hr/event/barka-barsic-rod-matesic/
LOCATION:Ukop na groblju Sv. Petar u Dugoj Resi\, Duga Resa\, Croatia (Local Name: Hrvatska)
CATEGORIES:Duga Resa - Sv. Petar
END:VEVENT
BEGIN:VEVENT
DTSTART;TZID=UTC:20250526T130000
DTEND;TZID=UTC:20250531T130000
DTSTAMP:20260425T002423
CREATED:20250523T103724Z
LAST-MODIFIED:20250523T103724Z
UID:4654-1748264400-1748696400@cistoca-dugaresa.hr
SUMMARY:MATO TOMIČIĆ
DESCRIPTION:ROĐEN: 1932. GODINE
URL:https://cistoca-dugaresa.hr/event/mato-tomicic/
LOCATION:Ukop na groblju Sv. Petar u Dugoj Resi\, Duga Resa\, Croatia (Local Name: Hrvatska)
CATEGORIES:Duga Resa - Sv. Petar
END:VEVENT
BEGIN:VEVENT
DTSTART;TZID=UTC:20250526T133000
DTEND;TZID=UTC:20250531T133000
DTSTAMP:20260425T002423
CREATED:20250523T103817Z
LAST-MODIFIED:20250523T103817Z
UID:4656-1748266200-1748698200@cistoca-dugaresa.hr
SUMMARY:JOSIP POLJAK
DESCRIPTION:ROĐEN: 1952. GODINE
URL:https://cistoca-dugaresa.hr/event/josip-poljak/
LOCATION:Ukop na groblju Sv. Petar u Dugoj Resi\, Duga Resa\, Croatia (Local Name: Hrvatska)
CATEGORIES:Duga Resa - Sv. Petar
END:VEVENT
BEGIN:VEVENT
DTSTART;TZID=UTC:20250527T130000
DTEND;TZID=UTC:20250531T130000
DTSTAMP:20260425T002423
CREATED:20250528T052357Z
LAST-MODIFIED:20250528T052505Z
UID:4660-1748350800-1748696400@cistoca-dugaresa.hr
SUMMARY:VELIMIR ĐUKIĆ
DESCRIPTION:ROĐEN: 1937. GODINE
URL:https://cistoca-dugaresa.hr/event/velimir-dukic/
LOCATION:Ukop na groblju Sv. Petar u Dugoj Resi\, Duga Resa\, Croatia (Local Name: Hrvatska)
CATEGORIES:Duga Resa - Sv. Petar
END:VEVENT
BEGIN:VEVENT
DTSTART;TZID=UTC:20250527T133000
DTEND;TZID=UTC:20250531T133000
DTSTAMP:20260425T002423
CREATED:20250526T082902Z
LAST-MODIFIED:20250526T082902Z
UID:4658-1748352600-1748698200@cistoca-dugaresa.hr
SUMMARY:KATA GRMAN rođ.Grman
DESCRIPTION:ROĐENA: 1931. GODINE
URL:https://cistoca-dugaresa.hr/event/kata-grman-rod-grman/
LOCATION:Ukop na groblju Sv. Petar u Dugoj Resi\, Duga Resa\, Croatia (Local Name: Hrvatska)
CATEGORIES:Duga Resa - Sv. Petar
END:VEVENT
END:VCALENDAR