BEGIN:VCALENDAR
VERSION:2.0
PRODID:-//Čistoća Duga Resa - ECPv5.14.0.1//NONSGML v1.0//EN
CALSCALE:GREGORIAN
METHOD:PUBLISH
X-WR-CALNAME:Čistoća Duga Resa
X-ORIGINAL-URL:https://cistoca-dugaresa.hr
X-WR-CALDESC:Events for Čistoća Duga Resa
REFRESH-INTERVAL;VALUE=DURATION:PT1H
X-Robots-Tag:noindex
X-PUBLISHED-TTL:PT1H
BEGIN:VTIMEZONE
TZID:UTC
BEGIN:STANDARD
TZOFFSETFROM:+0000
TZOFFSETTO:+0000
TZNAME:UTC
DTSTART:20250101T000000
END:STANDARD
END:VTIMEZONE
BEGIN:VEVENT
DTSTART;TZID=UTC:20250603T130000
DTEND;TZID=UTC:20250630T130000
DTSTAMP:20260424T230037
CREATED:20250602T115351Z
LAST-MODIFIED:20250602T115351Z
UID:4663-1748955600-1751288400@cistoca-dugaresa.hr
SUMMARY:TIHOMIR PETRUNIĆ
DESCRIPTION:ROĐEN: 1972. GODINE
URL:https://cistoca-dugaresa.hr/event/tihomir-petrunic/
LOCATION:Ukop na groblju Sv. Petar u Dugoj Resi\, Duga Resa\, Croatia (Local Name: Hrvatska)
CATEGORIES:Duga Resa - Sv. Petar
END:VEVENT
BEGIN:VEVENT
DTSTART;TZID=UTC:20250609T100000
DTEND;TZID=UTC:20250630T100000
DTSTAMP:20260424T230037
CREATED:20250606T070321Z
LAST-MODIFIED:20250606T070321Z
UID:4665-1749463200-1751277600@cistoca-dugaresa.hr
SUMMARY:ANKICA LUKŠIĆ rođ.Berislavić
DESCRIPTION:ROĐENA: 1946. GODINE
URL:https://cistoca-dugaresa.hr/event/ankica-luksic-rod-berislavic/
LOCATION:Ukop na groblju Sv. Petar u Dugoj Resi\, Duga Resa\, Croatia (Local Name: Hrvatska)
CATEGORIES:Duga Resa - Sv. Petar
END:VEVENT
BEGIN:VEVENT
DTSTART;TZID=UTC:20250609T133000
DTEND;TZID=UTC:20250630T133000
DTSTAMP:20260424T230037
CREATED:20250606T124519Z
LAST-MODIFIED:20250606T124519Z
UID:4667-1749475800-1751290200@cistoca-dugaresa.hr
SUMMARY:ANA DUGANIĆ rođ.Goldašić
DESCRIPTION:ROĐENA: 1937. GODINE
URL:https://cistoca-dugaresa.hr/event/ana-duganic-rod-goldasic/
LOCATION:Ukop na groblju Sv. Petar u Dugoj Resi\, Duga Resa\, Croatia (Local Name: Hrvatska)
CATEGORIES:Duga Resa - Sv. Petar
END:VEVENT
BEGIN:VEVENT
DTSTART;TZID=UTC:20250610T110000
DTEND;TZID=UTC:20250630T110000
DTSTAMP:20260424T230037
CREATED:20250609T064913Z
LAST-MODIFIED:20250609T064913Z
UID:4670-1749553200-1751281200@cistoca-dugaresa.hr
SUMMARY:RUŽICA ŠEKETA
DESCRIPTION:ROĐENA: 1937. GODINE
URL:https://cistoca-dugaresa.hr/event/ruzica-seketa/
LOCATION:Ukop na groblju Sv. Petar u Dugoj Resi\, Duga Resa\, Croatia (Local Name: Hrvatska)
CATEGORIES:Duga Resa - Sv. Petar
END:VEVENT
BEGIN:VEVENT
DTSTART;TZID=UTC:20250610T113000
DTEND;TZID=UTC:20250630T113000
DTSTAMP:20260424T230037
CREATED:20250609T065120Z
LAST-MODIFIED:20250609T065120Z
UID:4672-1749555000-1751283000@cistoca-dugaresa.hr
SUMMARY:DRAŽEN LORKOVIĆ
DESCRIPTION:ROĐEN: 1971. GODINE
URL:https://cistoca-dugaresa.hr/event/drazen-lorkovic/
LOCATION:Ukop na groblju Sv. Petar u Dugoj Resi\, Duga Resa\, Croatia (Local Name: Hrvatska)
CATEGORIES:Duga Resa - Sv. Petar
END:VEVENT
END:VCALENDAR