BEGIN:VCALENDAR
VERSION:2.0
PRODID:-//Čistoća Duga Resa - ECPv5.14.0.1//NONSGML v1.0//EN
CALSCALE:GREGORIAN
METHOD:PUBLISH
X-WR-CALNAME:Čistoća Duga Resa
X-ORIGINAL-URL:https://cistoca-dugaresa.hr
X-WR-CALDESC:Events for Čistoća Duga Resa
REFRESH-INTERVAL;VALUE=DURATION:PT1H
X-Robots-Tag:noindex
X-PUBLISHED-TTL:PT1H
BEGIN:VTIMEZONE
TZID:UTC
BEGIN:STANDARD
TZOFFSETFROM:+0000
TZOFFSETTO:+0000
TZNAME:UTC
DTSTART:20250101T000000
END:STANDARD
END:VTIMEZONE
BEGIN:VEVENT
DTSTART;TZID=UTC:20250717T140000
DTEND;TZID=UTC:20250731T140000
DTSTAMP:20260424T214848
CREATED:20250715T094739Z
LAST-MODIFIED:20250715T094739Z
UID:4693-1752760800-1753970400@cistoca-dugaresa.hr
SUMMARY:FRANJO LASLAVIĆ
DESCRIPTION:ROĐEN: 1948. GODINE
URL:https://cistoca-dugaresa.hr/event/franjo-laslavic/
LOCATION:Ukop na groblju Sv. Petar u Dugoj Resi\, Duga Resa\, Croatia (Local Name: Hrvatska)
CATEGORIES:Duga Resa - Sv. Petar
END:VEVENT
BEGIN:VEVENT
DTSTART;TZID=UTC:20250719T100000
DTEND;TZID=UTC:20250731T100000
DTSTAMP:20260424T214848
CREATED:20250717T101510Z
LAST-MODIFIED:20250717T101510Z
UID:4695-1752919200-1753956000@cistoca-dugaresa.hr
SUMMARY:MATIJA ČAVRAK
DESCRIPTION:ROĐEN: 1990. GODINE
URL:https://cistoca-dugaresa.hr/event/matija-cavrak/
LOCATION:Ukop na groblju Sv. Petar u Dugoj Resi\, Duga Resa\, Croatia (Local Name: Hrvatska)
CATEGORIES:Duga Resa - Sv. Petar
END:VEVENT
BEGIN:VEVENT
DTSTART;TZID=UTC:20250722T110000
DTEND;TZID=UTC:20250731T110000
DTSTAMP:20260424T214848
CREATED:20250721T091411Z
LAST-MODIFIED:20250721T091411Z
UID:4698-1753182000-1753959600@cistoca-dugaresa.hr
SUMMARY:PETAR BROZOVIĆ
DESCRIPTION:ROĐEN: 1932. GODINE
URL:https://cistoca-dugaresa.hr/event/petar-brozovic/
LOCATION:Ukop na groblju Sv. Petar u Dugoj Resi\, Duga Resa\, Croatia (Local Name: Hrvatska)
CATEGORIES:Duga Resa - Sv. Petar
END:VEVENT
BEGIN:VEVENT
DTSTART;TZID=UTC:20250723T120000
DTEND;TZID=UTC:20250731T120000
DTSTAMP:20260424T214848
CREATED:20250722T085548Z
LAST-MODIFIED:20250722T085548Z
UID:4700-1753272000-1753963200@cistoca-dugaresa.hr
SUMMARY:IVANA PRSTEC
DESCRIPTION:ROĐENA: 1937. GODINE
URL:https://cistoca-dugaresa.hr/event/ivana-prstec/
LOCATION:Ukop na groblju Sv. Petar u Dugoj Resi\, Duga Resa\, Croatia (Local Name: Hrvatska)
CATEGORIES:Duga Resa - Sv. Petar
END:VEVENT
BEGIN:VEVENT
DTSTART;TZID=UTC:20250723T123000
DTEND;TZID=UTC:20250731T123000
DTSTAMP:20260424T214848
CREATED:20250722T085930Z
LAST-MODIFIED:20250722T085930Z
UID:4702-1753273800-1753965000@cistoca-dugaresa.hr
SUMMARY:JULIE BRBOT
DESCRIPTION:ROĐEN: 1946. GODINE
URL:https://cistoca-dugaresa.hr/event/julie-brbot/
LOCATION:Ukop na groblju Sv. Petar u Dugoj Resi\, Duga Resa\, Croatia (Local Name: Hrvatska)
CATEGORIES:Duga Resa - Sv. Petar
END:VEVENT
BEGIN:VEVENT
DTSTART;TZID=UTC:20250724T130000
DTEND;TZID=UTC:20250731T130000
DTSTAMP:20260424T214848
CREATED:20250722T090035Z
LAST-MODIFIED:20250722T090035Z
UID:4704-1753362000-1753966800@cistoca-dugaresa.hr
SUMMARY:MILJKA STANAR
DESCRIPTION:ROĐENA: 1929. GODINE
URL:https://cistoca-dugaresa.hr/event/miljka-stanar/
LOCATION:Ukop na groblju Sv. Petar u Dugoj Resi\, Duga Resa\, Croatia (Local Name: Hrvatska)
CATEGORIES:Duga Resa - Sv. Petar
END:VEVENT
BEGIN:VEVENT
DTSTART;TZID=UTC:20250724T133000
DTEND;TZID=UTC:20250731T133000
DTSTAMP:20260424T214848
CREATED:20250722T090148Z
LAST-MODIFIED:20250722T090148Z
UID:4706-1753363800-1753968600@cistoca-dugaresa.hr
SUMMARY:JOSIP TRUPAC
DESCRIPTION:ROĐEN: 1938. GODINE
URL:https://cistoca-dugaresa.hr/event/josip-trupac/
LOCATION:Ukop na groblju Sv. Petar u Dugoj Resi\, Duga Resa\, Croatia (Local Name: Hrvatska)
CATEGORIES:Duga Resa - Sv. Petar
END:VEVENT
END:VCALENDAR