BEGIN:VCALENDAR
VERSION:2.0
PRODID:-//Čistoća Duga Resa - ECPv5.14.0.1//NONSGML v1.0//EN
CALSCALE:GREGORIAN
METHOD:PUBLISH
X-WR-CALNAME:Čistoća Duga Resa
X-ORIGINAL-URL:https://cistoca-dugaresa.hr
X-WR-CALDESC:Events for Čistoća Duga Resa
REFRESH-INTERVAL;VALUE=DURATION:PT1H
X-Robots-Tag:noindex
X-PUBLISHED-TTL:PT1H
BEGIN:VTIMEZONE
TZID:UTC
BEGIN:STANDARD
TZOFFSETFROM:+0000
TZOFFSETTO:+0000
TZNAME:UTC
DTSTART:20250101T000000
END:STANDARD
END:VTIMEZONE
BEGIN:VEVENT
DTSTART;TZID=UTC:20251201T130000
DTEND;TZID=UTC:20260101T130000
DTSTAMP:20260424T142151
CREATED:20251128T102902Z
LAST-MODIFIED:20251128T102902Z
UID:4847-1764594000-1767272400@cistoca-dugaresa.hr
SUMMARY:MILKA BENIĆ rođ. SKORUPAN
DESCRIPTION:ROĐENA:1942. GODINE
URL:https://cistoca-dugaresa.hr/event/milka-benic-rod-skorupan/
LOCATION:Ukop na groblju Sv. Petar u Dugoj Resi\, Duga Resa\, Croatia (Local Name: Hrvatska)
CATEGORIES:Duga Resa - Sv. Petar
END:VEVENT
BEGIN:VEVENT
DTSTART;TZID=UTC:20251201T133000
DTEND;TZID=UTC:20251231T133000
DTSTAMP:20260424T142151
CREATED:20251129T134117Z
LAST-MODIFIED:20251129T134117Z
UID:4849-1764595800-1767187800@cistoca-dugaresa.hr
SUMMARY:JURAJ POLOVIĆ
DESCRIPTION:ROĐEN: 1934.GODINE
URL:https://cistoca-dugaresa.hr/event/juraj-polovic/
LOCATION:Ukop na groblju Sv. Petar u Dugoj Resi\, Duga Resa\, Croatia (Local Name: Hrvatska)
CATEGORIES:Duga Resa - Sv. Petar
END:VEVENT
BEGIN:VEVENT
DTSTART;TZID=UTC:20251205T130000
DTEND;TZID=UTC:20251231T130000
DTSTAMP:20260424T142151
CREATED:20251203T071412Z
LAST-MODIFIED:20251203T071412Z
UID:4852-1764939600-1767186000@cistoca-dugaresa.hr
SUMMARY:HEDVIGA DEREŽANIN rođ.Rački
DESCRIPTION:ROĐENA: 1942. GODINE \nPOLAGANJE URNE
URL:https://cistoca-dugaresa.hr/event/hedviga-derezanin-rod-racki/
LOCATION:Ukop na groblju Sv. Petar u Dugoj Resi\, Duga Resa\, Croatia (Local Name: Hrvatska)
CATEGORIES:Duga Resa - Sv. Petar
END:VEVENT
BEGIN:VEVENT
DTSTART;TZID=UTC:20251205T133000
DTEND;TZID=UTC:20251231T133000
DTSTAMP:20260424T142151
CREATED:20251204T132122Z
LAST-MODIFIED:20251204T132122Z
UID:4872-1764941400-1767187800@cistoca-dugaresa.hr
SUMMARY:LJUBICA JURIŠIĆ rođ.Šabić
DESCRIPTION:ROĐENA: 1941. GODINE
URL:https://cistoca-dugaresa.hr/event/ljubica-jurisic-rod-sabic/
LOCATION:Ukop na groblju Sv. Petar u Dugoj Resi\, Duga Resa\, Croatia (Local Name: Hrvatska)
CATEGORIES:Duga Resa - Sv. Petar
END:VEVENT
BEGIN:VEVENT
DTSTART;TZID=UTC:20251210T130000
DTEND;TZID=UTC:20251231T130000
DTSTAMP:20260424T142151
CREATED:20251209T121515Z
LAST-MODIFIED:20251209T121515Z
UID:4876-1765371600-1767186000@cistoca-dugaresa.hr
SUMMARY:MARIJAN BANJAVČIĆ
DESCRIPTION:ROĐEN: 1934. GODINE
URL:https://cistoca-dugaresa.hr/event/marijan-banjavcic/
LOCATION:Ukop na groblju Sv. Petar u Dugoj Resi\, Duga Resa\, Croatia (Local Name: Hrvatska)
CATEGORIES:Duga Resa - Sv. Petar
END:VEVENT
BEGIN:VEVENT
DTSTART;TZID=UTC:20251216T130000
DTEND;TZID=UTC:20251231T130000
DTSTAMP:20260424T142151
CREATED:20251215T124907Z
LAST-MODIFIED:20251215T124907Z
UID:4900-1765890000-1767186000@cistoca-dugaresa.hr
SUMMARY:JURAJ TRUPAC
DESCRIPTION:ROĐEN: 1936. GODINE \n 
URL:https://cistoca-dugaresa.hr/event/juraj-trupac/
LOCATION:Ukop na groblju Sv. Petar u Dugoj Resi\, Duga Resa\, Croatia (Local Name: Hrvatska)
CATEGORIES:Duga Resa - Sv. Petar
END:VEVENT
BEGIN:VEVENT
DTSTART;TZID=UTC:20251220T130000
DTEND;TZID=UTC:20251231T130000
DTSTAMP:20260424T142151
CREATED:20251219T114720Z
LAST-MODIFIED:20251219T114720Z
UID:4919-1766235600-1767186000@cistoca-dugaresa.hr
SUMMARY:JELA ŽIVČIĆ rođ. Gojak
DESCRIPTION:ROĐENA: 1927. GODINE \n 
URL:https://cistoca-dugaresa.hr/event/jela-zivcic-rod-gojak/
LOCATION:Ukop na groblju Sv. Petar u Dugoj Resi\, Duga Resa\, Croatia (Local Name: Hrvatska)
CATEGORIES:Duga Resa - Sv. Petar
END:VEVENT
BEGIN:VEVENT
DTSTART;TZID=UTC:20251222T130000
DTEND;TZID=UTC:20251231T130000
DTSTAMP:20260424T142151
CREATED:20251220T115431Z
LAST-MODIFIED:20251220T115431Z
UID:4921-1766408400-1767186000@cistoca-dugaresa.hr
SUMMARY:JOSIP RADOČAJ
DESCRIPTION:ROĐEN: 1941. GODINE
URL:https://cistoca-dugaresa.hr/event/josip-radocaj/
LOCATION:Ukop na groblju Sv. Petar u Dugoj Resi\, Duga Resa\, Croatia (Local Name: Hrvatska)
CATEGORIES:Duga Resa - Sv. Petar
END:VEVENT
END:VCALENDAR