BEGIN:VCALENDAR
VERSION:2.0
PRODID:-//Čistoća Duga Resa - ECPv5.14.0.1//NONSGML v1.0//EN
CALSCALE:GREGORIAN
METHOD:PUBLISH
X-WR-CALNAME:Čistoća Duga Resa
X-ORIGINAL-URL:https://cistoca-dugaresa.hr
X-WR-CALDESC:Events for Čistoća Duga Resa
REFRESH-INTERVAL;VALUE=DURATION:PT1H
X-Robots-Tag:noindex
X-PUBLISHED-TTL:PT1H
BEGIN:VTIMEZONE
TZID:UTC
BEGIN:STANDARD
TZOFFSETFROM:+0000
TZOFFSETTO:+0000
TZNAME:UTC
DTSTART:20250101T000000
END:STANDARD
END:VTIMEZONE
BEGIN:VEVENT
DTSTART;TZID=UTC:20251231T120000
DTEND;TZID=UTC:20260131T120000
DTSTAMP:20260422T124443
CREATED:20251230T111403Z
LAST-MODIFIED:20251230T111403Z
UID:4940-1767182400-1769860800@cistoca-dugaresa.hr
SUMMARY:LIVOJEVIĆ JOSIP
DESCRIPTION:ROĐEN: 1944. GODINE \nUKOP NA GROBLJU U DUGA RESI
URL:https://cistoca-dugaresa.hr/event/livojevic-josip/
LOCATION:Ukop na groblju Sv. Petar u Dugoj Resi\, Duga Resa\, Croatia (Local Name: Hrvatska)
CATEGORIES:Duga Resa - Sv. Petar
END:VEVENT
BEGIN:VEVENT
DTSTART;TZID=UTC:20260102T130000
DTEND;TZID=UTC:20260131T130000
DTSTAMP:20260422T124443
CREATED:20251231T104753Z
LAST-MODIFIED:20251231T104753Z
UID:4942-1767358800-1769864400@cistoca-dugaresa.hr
SUMMARY:KATARINA PREKRIT
DESCRIPTION:ROĐENA: 1940. GODINE \nUKOP NA GROBLJU DUGA RESA SV. PETAR
URL:https://cistoca-dugaresa.hr/event/katarina-prekrit/
LOCATION:Ukop na groblju Sv. Petar u Dugoj Resi\, Duga Resa\, Croatia (Local Name: Hrvatska)
CATEGORIES:Duga Resa - Sv. Petar
END:VEVENT
BEGIN:VEVENT
DTSTART;TZID=UTC:20260102T133000
DTEND;TZID=UTC:20260131T133000
DTSTAMP:20260422T124443
CREATED:20251231T105049Z
LAST-MODIFIED:20251231T105049Z
UID:4944-1767360600-1769866200@cistoca-dugaresa.hr
SUMMARY:MARIJA POLOVIĆ
DESCRIPTION:ROĐENA: 1945. GODINE \nUKOP NA GROBLJU DUGA RESA SV. PETAR
URL:https://cistoca-dugaresa.hr/event/marija-polovic/
LOCATION:Ukop na groblju Sv. Petar u Dugoj Resi\, Duga Resa\, Croatia (Local Name: Hrvatska)
CATEGORIES:Duga Resa - Sv. Petar
END:VEVENT
BEGIN:VEVENT
DTSTART;TZID=UTC:20260105T130000
DTEND;TZID=UTC:20260201T130000
DTSTAMP:20260422T124443
CREATED:20260102T111652Z
LAST-MODIFIED:20260102T111652Z
UID:4949-1767618000-1769950800@cistoca-dugaresa.hr
SUMMARY:PETANJAK IVANKA
DESCRIPTION:ROĐENA: 1931. GODINE \nUKOP NA GROBLJU SV. PETAR U DUGA RESI
URL:https://cistoca-dugaresa.hr/event/petanjak-ivanka/
LOCATION:Ukop na groblju Sv. Petar u Dugoj Resi\, Duga Resa\, Croatia (Local Name: Hrvatska)
CATEGORIES:Duga Resa - Sv. Petar
END:VEVENT
BEGIN:VEVENT
DTSTART;TZID=UTC:20260107T140000
DTEND;TZID=UTC:20260207T140000
DTSTAMP:20260422T124443
CREATED:20260105T085606Z
LAST-MODIFIED:20260105T085606Z
UID:4952-1767794400-1770472800@cistoca-dugaresa.hr
SUMMARY:DRAŽEN DUGANIĆ
DESCRIPTION:ROĐEN: 1960. GODINE
URL:https://cistoca-dugaresa.hr/event/drazen-duganic/
LOCATION:Ukop na groblju Sv. Petar u Dugoj Resi\, Duga Resa\, Croatia (Local Name: Hrvatska)
CATEGORIES:Duga Resa - Sv. Petar
END:VEVENT
BEGIN:VEVENT
DTSTART;TZID=UTC:20260108T130000
DTEND;TZID=UTC:20260208T130000
DTSTAMP:20260422T124443
CREATED:20260107T075802Z
LAST-MODIFIED:20260107T075802Z
UID:4960-1767877200-1770555600@cistoca-dugaresa.hr
SUMMARY:ANTUN BIŠĆAN
DESCRIPTION:ROĐEN: 1934. GODINE
URL:https://cistoca-dugaresa.hr/event/antun-biscan/
LOCATION:Ukop na groblju Sv. Petar u Dugoj Resi\, Duga Resa\, Croatia (Local Name: Hrvatska)
CATEGORIES:Duga Resa - Sv. Petar
END:VEVENT
BEGIN:VEVENT
DTSTART;TZID=UTC:20260120T130000
DTEND;TZID=UTC:20260208T130000
DTSTAMP:20260422T124443
CREATED:20260118T122816Z
LAST-MODIFIED:20260118T122816Z
UID:4979-1768914000-1770555600@cistoca-dugaresa.hr
SUMMARY:DANIJEL MATIČIĆ
DESCRIPTION:ROĐEN : 1984. GODINE \nUKOP NA GROBLJU U DUGA RESI
URL:https://cistoca-dugaresa.hr/event/danijel-maticic/
LOCATION:Ukop na groblju Sv. Petar u Dugoj Resi\, Duga Resa\, Croatia (Local Name: Hrvatska)
CATEGORIES:Duga Resa - Sv. Petar
END:VEVENT
BEGIN:VEVENT
DTSTART;TZID=UTC:20260122T140000
DTEND;TZID=UTC:20260215T140000
DTSTAMP:20260422T124443
CREATED:20260120T110040Z
LAST-MODIFIED:20260120T110040Z
UID:4988-1769090400-1771164000@cistoca-dugaresa.hr
SUMMARY:BARKA TUTEK
DESCRIPTION:ROĐENA: 1949. GODINE \n 
URL:https://cistoca-dugaresa.hr/event/barka-tutek/
LOCATION:Ukop na groblju Sv. Petar u Dugoj Resi\, Duga Resa\, Croatia (Local Name: Hrvatska)
CATEGORIES:Duga Resa - Sv. Petar
END:VEVENT
BEGIN:VEVENT
DTSTART;TZID=UTC:20260123T130000
DTEND;TZID=UTC:20260215T130000
DTSTAMP:20260422T124443
CREATED:20260121T100354Z
LAST-MODIFIED:20260121T100354Z
UID:4991-1769173200-1771160400@cistoca-dugaresa.hr
SUMMARY:MATO ARŠULIĆ
DESCRIPTION:ROĐEN: 1935. GODINE
URL:https://cistoca-dugaresa.hr/event/mato-arsulic/
LOCATION:Ukop na groblju Sv. Petar u Dugoj Resi\, Duga Resa\, Croatia (Local Name: Hrvatska)
CATEGORIES:Duga Resa - Sv. Petar
END:VEVENT
BEGIN:VEVENT
DTSTART;TZID=UTC:20260123T133000
DTEND;TZID=UTC:20260215T133000
DTSTAMP:20260422T124443
CREATED:20260122T122238Z
LAST-MODIFIED:20260122T122238Z
UID:4994-1769175000-1771162200@cistoca-dugaresa.hr
SUMMARY:MARICA BELOBRAJDIĆ
DESCRIPTION:ROĐENA: 1942. GODINE
URL:https://cistoca-dugaresa.hr/event/marica-belobrajdic/
LOCATION:Ukop na groblju Sv. Petar u Dugoj Resi\, Duga Resa\, Croatia (Local Name: Hrvatska)
CATEGORIES:Duga Resa - Sv. Petar
END:VEVENT
END:VCALENDAR